BEGIN:VCALENDAR
VERSION:2.0
PRODID:-//StivoZ.gr - ECPv5.16.4//NONSGML v1.0//EN
CALSCALE:GREGORIAN
METHOD:PUBLISH
X-WR-CALNAME:StivoZ.gr
X-ORIGINAL-URL:https://www.stivoz.gr
X-WR-CALDESC:StivoZ.gr - Εκδηλώσεις
BEGIN:VTIMEZONE
TZID:Europe/Athens
BEGIN:STANDARD
TZOFFSETFROM:+0200
TZOFFSETTO:+0200
TZNAME:EET
DTSTART:20180101T000000
END:STANDARD
END:VTIMEZONE
BEGIN:VEVENT
DTSTART;VALUE=DATE:20180505
DTEND;VALUE=DATE:20260420
DTSTAMP:20260419T212913
CREATED:20180427T084221Z
LAST-MODIFIED:20210518T120902Z
UID:29340-1525478400-0@www.stivoz.gr
SUMMARY:φεστ.ρίψεων (Τρίπολη)
DESCRIPTION:Σχετικά θέματα:\n– www.stivoz.com/content.php?6645-Dynati-epistrofi-Batzavali-me-orio-stin-Tripoli-Exafanise-ti-sfyra-o-Frantzeskakis\n– www.stivoz.com/forum/showthread.php?17569 (αποτελέσματα) \nΠρόγραμμα: \n10:30 ΣΦΑΙΡΑ ΠΠ Α΄ Κεντρικό\n10.30 ΑΚΟΝΤΙΟ  ΠΠ Α’ Κεντρικό\n10:30 ΣΦΥΡΑ ΠΠ Α΄ Βοηθητικό\n11:20 ΔΙΣΚΟΣ ΠΠ Α΄ Βοηθητικό\n    12:00 ΔΙΣΚΟΣ Κ Βοηθητικό\n    12.30 ΑΚΟΝΤΙΟ Π Κεντρικό\n    13:00 ΣΦΑΙΡΑ Π Κεντρικό\n    13:00 ΔΙΣΚΟΣ Π Βοηθητικό\n    13.40 ΑΚΟΝΤΙΟ Κ Κεντρικό\n    13:50 ΣΦΥΡΑ Κ Βοηθητικό\n    14:40 ΣΦΑΙΡΑ Κ Κεντρικό\n    14.55 ΣΦΥΡΑ Π Βοηθητικό\n    15.45 ΣΦΥΡΑ Ε Βοηθητικό\n    16:15 ΑΚΟΝΤΙΟ Γ Κεντρικό\n    16:00 ΣΦΑΙΡΑ Γ Κεντρικό\n    16:30 ΔΙΣΚΟΣ Α – Ε  Βοηθητικό\n    17:20 ΣΦΑΙΡΑ Ε Κεντρικό\n17:20 ΣΦΑΙΡΑ ΠΚ Β ΄\n    17:15 ΣΦΥΡΑ Γ Βοηθητικό\n    18:00 ΣΦΥΡΑ Α Βοηθητικό\n    18:20 ΣΦΑΙΡΑ Α Κεντρικό\n18:20 ΣΦΑΙΡΑ ΠΠ Β΄\n    18:30 ΑΚΟΝΤΙΟ Α Κεντρικό\n    18:55 ΔΙΣΚΟΣ Γ Βοηθητικό     \nΔρόμοι / Άλματα \n16.30 60μ.  ΠΠ Β΄  & 60μ. ΠK Β΄\n17.20 ΜΗΚΟΣ ΠΠ Β΄\n18:20 ΜΗΚΟΣ ΠΚ Β΄  \nΟι δηλώσεις συμμετοχής θα πρέπει να σταλούν στην Ε.Α.Σ. Σ.Ε.Γ.Α.Σ. το αργότερο  μέχρι την ΔΕΥΤΕΡΑ 30 – 05 – 18\nστο ειδικό έντυπο δήλωσης συμμετοχής στο FAX: 2710222093\, ή στο email: segastri@otenet.gr.\nΥποχρεωτικά να αναφέρεται η επίδοση του αθλητή  καθώς καιτηλέφωνα αθλητή και προπονητή.
URL:https://www.stivoz.gr/event/fest-ripseon-tripoli-2018/
CATEGORIES:Ημερολόγιο αγώνων
END:VEVENT
END:VCALENDAR