BEGIN:VCALENDAR
VERSION:2.0
PRODID:-//StivoZ.gr - ECPv5.16.4//NONSGML v1.0//EN
CALSCALE:GREGORIAN
METHOD:PUBLISH
X-WR-CALNAME:StivoZ.gr
X-ORIGINAL-URL:https://www.stivoz.gr
X-WR-CALDESC:StivoZ.gr - Εκδηλώσεις
BEGIN:VTIMEZONE
TZID:Europe/Athens
BEGIN:STANDARD
TZOFFSETFROM:+0200
TZOFFSETTO:+0200
TZNAME:EET
DTSTART:20150101T000000
END:STANDARD
END:VTIMEZONE
BEGIN:VEVENT
DTSTART;VALUE=DATE:20150516
DTEND;VALUE=DATE:20260420
DTSTAMP:20260419T154802
CREATED:20150511T201502Z
LAST-MODIFIED:20210518T121016Z
UID:28989-1431734400-0@www.stivoz.gr
SUMMARY:Φεστιβάλ ρίψεων (Τρίπολη)
DESCRIPTION:Σχετικά θέματα:\n– www.stivoz.com/content.php?4868\n– www.stivoz.com/forum/showthread.php?13657 (αποτελέσματα) \nΠρόγραμμα: \n13.30 ΣΦΥΡΑ ΠΠ Α΄\n14.00 ΣΦΥΡΑ ΚΟΡΑΣΙΔΩΝ – ΠΚ Α΄\n15.00 ΔΙΣΚΟΒΟΛΙΑ ΕΦΗΒΩΝ\n15.15 ΣΦΑΙΡΑ ΠΑΙΔΩΝ\n15.15 ΜΠΑΛΑΚΙ ΠΠ Β΄\n15.15 ΜΗΚΟΣ ΠΚ Β΄\n15.45 ΣΦΥΡΑ ΓΥΝΑΙΚΩΝ\n16.00 ΣΦΑΙΡΑ ΚΟΡΑΣΙΔΩΝ\n16.00 ΜΗΚΟΣ ΠΠ Β΄\n16.00 ΜΠΑΛΑΚΙ ΠΚ Β΄\n16.30 ΣΦΥΡΑ ΠΑΙΔΩΝ\n16.30 ΑΚΟΝΤΙΟ ΓΥΝΑΙΚΩΝ\n16.30 60μ. ΠΠ Β΄\n16.45 60μ. ΠΚ Β΄\n17.00 ΣΦΥΡΑ ΑΝΔΡΩΝ\n17.15 ΣΦΑΙΡΑ ΓΥΝΑΙΚΩΝ\n18.15 ΔΙΣΚΟΣ ΑΝΔΡΩΝ\n18.15 ΣΦΑΙΡΑ ΕΦΗΒΩΝ\n19.00 ΔΙΣΚΟΣ ΠΑΙΔΩΝ\n19:00 ΣΦΑΙΡΑ ΑΝΔΡΩΝ\n19:00 ΑΚΟΝΤΙΟ ΑΝΔΡΩΝ\n19.30 ΔΙΣΚΟΣ ΓΥΝΑΙΚΩΝ\n19.50 ΔΙΣΚΟΣ ΠΠ Α΄ \n* ΟΙ ΠΠ Β΄ ΚΑΙ ΠΚ Β΄ ΣΤΟ ΜΗΚΟΣ & ΜΠΑΛΑΚΙ ΘΑ ΚΑΝΟΥN ΑΠΟ ΤΡΕΙΣ (3) ΠΡΟΣΠΑΘΕΙΕΣ.
URL:https://www.stivoz.gr/event/fest-ripseon-tripoli-2015/
CATEGORIES:Ημερολόγιο αγώνων
END:VEVENT
END:VCALENDAR