BEGIN:VCALENDAR
VERSION:2.0
PRODID:-//StivoZ.gr - ECPv5.16.4//NONSGML v1.0//EN
CALSCALE:GREGORIAN
METHOD:PUBLISH
X-WR-CALNAME:StivoZ.gr
X-ORIGINAL-URL:https://www.stivoz.gr
X-WR-CALDESC:StivoZ.gr - Εκδηλώσεις
BEGIN:VTIMEZONE
TZID:Europe/Athens
BEGIN:DAYLIGHT
TZOFFSETFROM:+0200
TZOFFSETTO:+0300
TZNAME:EEST
DTSTART:20160327T010000
END:DAYLIGHT
BEGIN:STANDARD
TZOFFSETFROM:+0300
TZOFFSETTO:+0200
TZNAME:EET
DTSTART:20161030T010000
END:STANDARD
END:VTIMEZONE
BEGIN:VEVENT
DTSTART;VALUE=DATE:20160312
DTEND;VALUE=DATE:20160314
DTSTAMP:20260422T052635
CREATED:20160313T182142Z
LAST-MODIFIED:20210423T075817Z
UID:29027-1457773200-1457890200@www.stivoz.gr
SUMMARY:Ευρωπ.κύπελλο ρίψεων (Arad)
DESCRIPTION:www.arad2016.com \nΣχετικά θέματα:\n– www.stivoz.com/content.php?5438-Me-mia-voli-4os-sto-europaiko-ripsewn-o-Anastasakis\n– www.stivoz.com/content.php?5441-Stin-5i-thesi-sto-europaiko-ripsewn-Anagnostopoulou-kai-Korosidou
URL:https://www.stivoz.gr/event/european-throwing-cup-2016/
CATEGORIES:Ημερολόγιο αγώνων
END:VEVENT
END:VCALENDAR