BEGIN:VCALENDAR
VERSION:2.0
PRODID:-//StivoZ.gr - ECPv5.16.4//NONSGML v1.0//EN
CALSCALE:GREGORIAN
METHOD:PUBLISH
X-WR-CALNAME:StivoZ.gr
X-ORIGINAL-URL:https://www.stivoz.gr
X-WR-CALDESC:StivoZ.gr - Εκδηλώσεις
BEGIN:VTIMEZONE
TZID:Europe/Athens
BEGIN:DAYLIGHT
TZOFFSETFROM:+0200
TZOFFSETTO:+0300
TZNAME:EEST
DTSTART:20080330T010000
END:DAYLIGHT
BEGIN:STANDARD
TZOFFSETFROM:+0300
TZOFFSETTO:+0200
TZNAME:EET
DTSTART:20081026T010000
END:STANDARD
END:VTIMEZONE
BEGIN:VEVENT
DTSTART;VALUE=DATE:20080315
DTEND;VALUE=DATE:20080317
DTSTAMP:20260422T134451
CREATED:20070911T154815Z
LAST-MODIFIED:20210423T075652Z
UID:28143-1205571600-1205694000@www.stivoz.gr
SUMMARY:Ευρωπαϊκό κύπελλο ριψεων Α/Γ (Σπλιτ)
DESCRIPTION:http://www.split2008.com/ \nπρόγραμμα: http://www.split2008.com/competition.html\nσυμμετοχές: http://www.split2008.com/ecwt_entries.pdf
URL:https://www.stivoz.gr/event/european-throwing-cup-2008/
CATEGORIES:Ημερολόγιο αγώνων
END:VEVENT
END:VCALENDAR