BEGIN:VCALENDAR
VERSION:2.0
PRODID:-//StivoZ.gr - ECPv5.16.4//NONSGML v1.0//EN
CALSCALE:GREGORIAN
METHOD:PUBLISH
X-WR-CALNAME:StivoZ.gr
X-ORIGINAL-URL:https://www.stivoz.gr
X-WR-CALDESC:StivoZ.gr - Εκδηλώσεις
BEGIN:VTIMEZONE
TZID:Europe/Athens
BEGIN:DAYLIGHT
TZOFFSETFROM:+0200
TZOFFSETTO:+0300
TZNAME:EEST
DTSTART:20250330T010000
END:DAYLIGHT
BEGIN:STANDARD
TZOFFSETFROM:+0300
TZOFFSETTO:+0200
TZNAME:EET
DTSTART:20251026T010000
END:STANDARD
END:VTIMEZONE
BEGIN:VEVENT
DTSTART;VALUE=DATE:20250412
DTEND;VALUE=DATE:20250414
DTSTAMP:20260421T191113
CREATED:20250331T082241Z
LAST-MODIFIED:20250412T201614Z
UID:123322-1744416000-1744588799@www.stivoz.gr
SUMMARY:1ο Ευρωπαϊκό road running (Βρυξέλλες)
DESCRIPTION:europeanrunningchampionships.com \nΣχετικά θέματα:\n– www.stivoz.gr/european-running-2025/ (αποτελέσματα) \n-> ιστορικό\n-> κανονισμοί \nΠρόγραμμα: \nΣάβ. 12/4 \n10:00 – Ημιμαραθώνιος (Leuven) \nΚυρ. 13/4 \n09:30 – 10χλμ (Leuven)\n10:15 – Μαραθώνιος (Brussels)
URL:https://www.stivoz.gr/event/european-road-running-2025/
CATEGORIES:Ημερολόγιο αγώνων
END:VEVENT
END:VCALENDAR