BEGIN:VCALENDAR
VERSION:2.0
PRODID:-//StivoZ.gr - ECPv5.16.4//NONSGML v1.0//EN
CALSCALE:GREGORIAN
METHOD:PUBLISH
X-WR-CALNAME:StivoZ.gr
X-ORIGINAL-URL:https://www.stivoz.gr
X-WR-CALDESC:StivoZ.gr - Εκδηλώσεις
BEGIN:VTIMEZONE
TZID:Europe/Athens
BEGIN:STANDARD
TZOFFSETFROM:+0200
TZOFFSETTO:+0200
TZNAME:EET
DTSTART:20080101T000000
END:STANDARD
END:VTIMEZONE
BEGIN:VEVENT
DTSTART;VALUE=DATE:20080216
DTEND;VALUE=DATE:20260423
DTSTAMP:20260422T052737
CREATED:20071214T112729Z
LAST-MODIFIED:20181218T110152Z
UID:28204-1203120000-0@www.stivoz.gr
SUMMARY:Ευρ.κύπελλο κλειστού
DESCRIPTION:Συμ.Ομαδες:\nΑΝΔΡΕΣ: Γαλλια\, Γερμανια\, Πολωνια\, Ρωσια\, Ισπανια\, Ιταλια\, Ουκρανια\, Σουηδια.\nΓΥΝΑΙΚΕΣ: Ρωσια\, Γαλλια\, Γερμανια\, Πολωνια\, Ουκρανια\, Λευκορωσια\, Ιταλια\, Ισπανια  \nΩρα εναρξης (τελετη εναρξης) 16:30 τοπικη\nΩρα λήξης (απονομές) 19:30\n(Δείτε Πρόγραμμα)
URL:https://www.stivoz.gr/event/european-cup-indoor-2008/
CATEGORIES:Ημερολόγιο αγώνων
END:VEVENT
END:VCALENDAR