BEGIN:VCALENDAR
VERSION:2.0
PRODID:-//StivoZ.gr - ECPv5.16.4//NONSGML v1.0//EN
CALSCALE:GREGORIAN
METHOD:PUBLISH
X-WR-CALNAME:StivoZ.gr
X-ORIGINAL-URL:https://www.stivoz.gr
X-WR-CALDESC:StivoZ.gr - Εκδηλώσεις
BEGIN:VTIMEZONE
TZID:Europe/Athens
BEGIN:DAYLIGHT
TZOFFSETFROM:+0200
TZOFFSETTO:+0300
TZNAME:EEST
DTSTART:20140330T010000
END:DAYLIGHT
BEGIN:STANDARD
TZOFFSETFROM:+0300
TZOFFSETTO:+0200
TZNAME:EET
DTSTART:20141026T010000
END:STANDARD
END:VTIMEZONE
BEGIN:VEVENT
DTSTART;VALUE=DATE:20140722
DTEND;VALUE=DATE:20140728
DTSTAMP:20260422T034205
CREATED:20130803T095842Z
LAST-MODIFIED:20181218T094351Z
UID:28816-1406019600-1406494800@www.stivoz.gr
SUMMARY:Παγκόσμιο Ε/Ν (Eugene\,Oregon)
DESCRIPTION:http://oregon14.com \n-> Πρόγραμμα/αποτελέσματα (-> Live)\n-> Στοιχεία ανά χώρα \n-> Livestream \n-> Πρόγραμμα\n-> TeamManual\n-> Όρια & επιτεύξεις \nΣχετικά θέματα:\n– www.stivoz.com/content.php?4148-H-omada-gia-to-pagkosmio-E-N (Ελληνική αποστολή)\n– www.stivoz.com/content.php?4171-H-omada-tis-Kyprou-gia-to-pagkosmio-E-N\n– www.stivoz.com/content.php?4189-Ksekinima-sto-Eugene\n– www.stivoz.com/content.php?4191-Eugene-Ksekinima-me-to-deksi-H-G-Stefanidi-ston-teliko-tou-epikontw\n– www.stivoz.com/content.php?4193-Eugene-Teliko-i-Korosidou-sto-rekor-tou-o-Gourlias\n– www.stivoz.com/content.php?4196-Eugene-Xalkini-sto-finale-i-Korosidou-Me-syntagi-Stefanidi-o-Tessaromatis-teliko-Megali-epidosi-i-Lake-Pagkosmio-i-Drahotova\n– www.stivoz.com/content.php?4200-Eugene-12i-i-G-Stefanidi-WJR-o-Belocian\n– www.stivoz.com/content.php?4202-Eugene-6os-o-Tsamoudakis-me-panellinio-rekor-Teliko-akontismou-o-Kyriazis\n– www.stivoz.com/content.php?4203-Eugene-11os-me-2-10-o-Tessaromatis-Anemos-o-Friday-sta-200-Super-Hyde-sta-empodia\n– www.stivoz.com/content.php?4208-Eugene-Finale-kai-7i-thesi-o-Kyriazis-ston-akontismo-Ksexorisan-Williams-Lake-kai-Martinez \n– www.stivoz.com/forum/showthread.php?12248 (αποτελέσματα) \nΗ ομάδα αναχωρεί την Παρασκευή 18/7 το πρωί στις 06.35 με την πτήση AF 1033 και επιστρέφει στην Αθήνα στις 29/7 με την πτήση AF 1332 (18.50). \n-> video δηλώσεων ομάδας
URL:https://www.stivoz.gr/event/eugene2014/
CATEGORIES:Ημερολόγιο αγώνων
END:VEVENT
END:VCALENDAR