BEGIN:VCALENDAR
VERSION:2.0
PRODID:-//StivoZ.gr - ECPv5.16.4//NONSGML v1.0//EN
CALSCALE:GREGORIAN
METHOD:PUBLISH
X-WR-CALNAME:StivoZ.gr
X-ORIGINAL-URL:https://www.stivoz.gr
X-WR-CALDESC:StivoZ.gr - Εκδηλώσεις
BEGIN:VTIMEZONE
TZID:Europe/Athens
BEGIN:DAYLIGHT
TZOFFSETFROM:+0200
TZOFFSETTO:+0300
TZNAME:EEST
DTSTART:20080330T010000
END:DAYLIGHT
BEGIN:STANDARD
TZOFFSETFROM:+0300
TZOFFSETTO:+0200
TZNAME:EET
DTSTART:20081026T010000
END:STANDARD
END:VTIMEZONE
BEGIN:VEVENT
DTSTART;VALUE=DATE:20080711
DTEND;VALUE=DATE:20080714
DTSTAMP:20260420T085901
CREATED:20080620T230705Z
LAST-MODIFIED:20181208T172941Z
UID:28242-1215777600-1215982800@www.stivoz.gr
SUMMARY:Εθν.πρωτάθλημα Μεγ.Βρεττανίας
DESCRIPTION:Πρόγραμμα: http://www.ukathletics.net/uka-major-events/birmingham/timetable/ \nΌρια: http://www.ukathletics.net/uka-major-events/birmingham/qualification-standards/ \nΣυμμετοχές: http://www.ukathletics.net/EasysiteWeb/getresource.axd?AssetID=32893&type=full&servicetype=attachment
URL:https://www.stivoz.gr/event/ethn-protathlima-meg-vrettanias/
CATEGORIES:Ημερολόγιο αγώνων
END:VEVENT
END:VCALENDAR