BEGIN:VCALENDAR
VERSION:2.0
PRODID:-//StivoZ.gr - ECPv5.16.4//NONSGML v1.0//EN
CALSCALE:GREGORIAN
METHOD:PUBLISH
X-WR-CALNAME:StivoZ.gr
X-ORIGINAL-URL:https://www.stivoz.gr
X-WR-CALDESC:StivoZ.gr - Εκδηλώσεις
BEGIN:VTIMEZONE
TZID:Europe/Athens
BEGIN:DAYLIGHT
TZOFFSETFROM:+0200
TZOFFSETTO:+0300
TZNAME:EEST
DTSTART:20250330T010000
END:DAYLIGHT
BEGIN:STANDARD
TZOFFSETFROM:+0300
TZOFFSETTO:+0200
TZNAME:EET
DTSTART:20251026T010000
END:STANDARD
END:VTIMEZONE
BEGIN:VEVENT
DTSTART;VALUE=DATE:20250626
DTEND;VALUE=DATE:20250630
DTSTAMP:20260421T191739
CREATED:20250613T071627Z
LAST-MODIFIED:20250627T074428Z
UID:125197-1750896000-1751241599@www.stivoz.gr
SUMMARY:European Team Championships (d1: Μαδρίτη)
DESCRIPTION:madridetch2025.com \nΣχετκά θέματα:\n– www.stivoz.gr/i-omada-gia-madriti/ (ελληνική ομάδα)\n– www.stivoz.gr/etc-2025/ (αποτελέσματα) \n-> ιστορικό\n-> κανονισμοί < \nΜΑΔΡΙΤΗ – 1η κατηγορία \nITA\, POL\, GER\, ESP\, GBR\, NED\, FRA\, POR\, CZE\, SWE\, FIN\, SUI\, GRE\, HUN\, UKR\, LTU \nΜετάδοση ΕΡΤ (ώρα Ελλάδος) \n-Πέμπτη 26/6 ΕΡΤ3 17.00-20.00\n-Παρασκευή 27/6 ΕΡΤ3 19.20-22.45\n-Σάββατο 28/6 ΕΡΤ2 19.00-22.45\n-Κυριακή 29/6 ΕΡΤ3 19.00-23.00 \nΠρόγραμμα\n(τοπική ώρα\, +1 για Ελλάδα) \nΠε 26/6 (εκτός Σταδίου) \n16:00 Pole Vault W\n18:20 Pole Vault M \nΠαρ 27/6 \n18:20 Hammer Throw M\n18:41 Shot Put W\n19:10 400m W\n19:30 400m M\n20:00 5000m W\n20:22 Triple Jump M\n20:30 800m M\n20:37 Discus Throw W\n20:55 3000m SC M\n21:18 100m W\n21:35 100m M \nΣαβ 28/6 \n18:00 Long Jump M\n18:17 Hammer Throw W\n19:22 110m H M\n19:49 High Jump M\n19:53 100m H W\n20:15 800m W\n20:22 Triple Jump W\n20:37 Discus Throw M\n20:41 400m H M\n20:59 400m H W\n21:20 4x100m Relay M\n21:38 4x100m Relay W \nΚυρ 29/6 \n18:00 Shot Put M\n18:15 Javelin Throw W\n19:00 200m W\n19:20 200m M\n19:40 High Jump W\n19:50 1500m W\n19:59 Long Jump W\n20:13 1500m M\n20:22 Javelin Throw M\n20:40 3000m SC W\n21:10 5000m M\n21:46 4x400m Mixed X \nΜΑΡΙΜΠΟΡ – 2η κατηγορία (& 3η\, 24-25/06) \nBEL\, TUR\, NOR\, SLO\, ROU\, DEN\, SRB\, SVK\, CRO\, EST\, BUL\, CYP\, LAT\, IRL\, AUT\, ISR \nΠρόγραμμα\n(τοπική ώρα\, +1 για Ελλάδα/Κύπρο) \nΣαβ 28/6 \n14:30 Hammer Throw M\n14:50 Long Jump M\n15:45 400m H W\n16:00 Pole Vault W\n16:05 400m H M\n16:25 Discus Throw W\n16:30 100m M\n16:40 Shot Put M\n16:50 100m W\n17:15 800m W\n17:40 1500m M\n17:50 High Jump M\n17:55 400m W\n18:05 Long Jump W\n18:15 400m M\n18:25 Javelin Throw W\n18:35 5000m M\n19:00 3000m SC W\n19:20 4×100 W\n19:36 4×100 M \nΚυρ 29/6 \n14:30 Hammer Throw W\n14:50 Triple Jump W\n16:00 Pole Vault M\n16:25 Discus Throw M\n16:30 110m H M\n16:35 Shot Put W\n16:55 100m H W\n17:20 1500m W\n17:35 800m M\n17:50 High Jump W\n18:00 200m W\n18:05 Triple Jump M\n18:20 200m M\n18:25 Javelin Throw M\n18:50 5000m W\n19:20 3000m SC M\n19:40 4×400 Mixed M
URL:https://www.stivoz.gr/event/etc-2025/
CATEGORIES:Ημερολόγιο αγώνων
END:VEVENT
END:VCALENDAR