BEGIN:VCALENDAR
VERSION:2.0
PRODID:-//StivoZ.gr - ECPv5.16.4//NONSGML v1.0//EN
CALSCALE:GREGORIAN
METHOD:PUBLISH
X-WR-CALNAME:StivoZ.gr
X-ORIGINAL-URL:https://www.stivoz.gr
X-WR-CALDESC:StivoZ.gr - Εκδηλώσεις
BEGIN:VTIMEZONE
TZID:Europe/Athens
BEGIN:DAYLIGHT
TZOFFSETFROM:+0200
TZOFFSETTO:+0300
TZNAME:EEST
DTSTART:20090329T010000
END:DAYLIGHT
BEGIN:STANDARD
TZOFFSETFROM:+0300
TZOFFSETTO:+0200
TZNAME:EET
DTSTART:20091025T010000
END:STANDARD
END:VTIMEZONE
BEGIN:VEVENT
DTSTART;VALUE=DATE:20090620
DTEND;VALUE=DATE:20090622
DTSTAMP:20260421T135538
CREATED:20080624T210148Z
LAST-MODIFIED:20240516T113932Z
UID:28244-1245456000-1245628799@www.stivoz.gr
SUMMARY:1ο ευρωπ.πρ.ομάδων (Πορτογαλία)
DESCRIPTION:http://www.stivoz.com/StivoZ.gr_Newsletter_4.pdf \nSuper League: www.leiria2009.com/leiriaen (συμμετέχει η Ελλάδα)\n1η κατηγορία: www.bergen2009.org\n2η κατηγορία: www.dukla.sk/etc2009 (συμμετέχει η Κύπρος)\n3η κατηγορία: www.etcsarajevo2009.com.ba/ \nΣχετικά θέματα:\nhttp://www.stivoz.gr/?p=10865 Ελλαδα\nhttp://www.stivoz.gr/?p=20441 Κυπρος\nhttp://www.stivoz.gr/?p=10867 ομαδες\nhttp://www.stivoz.gr/?p=20442 κανονισμοι\nhttp://www.stivoz.gr/?p=20443 1η ημέρα\nhttp://www.stivoz.gr/?p=10864 2η ημέρα\nhttp://www.stivoz.gr/?p=16791 (σχολιασμός)\nhttp://www.stivoz.gr/?p=16791 αποτελέσματα
URL:https://www.stivoz.gr/event/etc-2009/
CATEGORIES:Ημερολόγιο αγώνων
END:VEVENT
END:VCALENDAR