BEGIN:VCALENDAR
VERSION:2.0
PRODID:-//StivoZ.gr - ECPv5.16.4//NONSGML v1.0//EN
CALSCALE:GREGORIAN
METHOD:PUBLISH
X-WR-CALNAME:StivoZ.gr
X-ORIGINAL-URL:https://www.stivoz.gr
X-WR-CALDESC:StivoZ.gr - Εκδηλώσεις
BEGIN:VTIMEZONE
TZID:Europe/Athens
BEGIN:DAYLIGHT
TZOFFSETFROM:+0200
TZOFFSETTO:+0300
TZNAME:EEST
DTSTART:20150329T010000
END:DAYLIGHT
BEGIN:STANDARD
TZOFFSETFROM:+0300
TZOFFSETTO:+0200
TZNAME:EET
DTSTART:20151025T010000
END:STANDARD
END:VTIMEZONE
BEGIN:VEVENT
DTSTART;VALUE=DATE:20150716
DTEND;VALUE=DATE:20150720
DTSTAMP:20260420T150059
CREATED:20141220T200647Z
LAST-MODIFIED:20181218T093307Z
UID:28924-1437037200-1437339600@www.stivoz.gr
SUMMARY:Ευρωπαικό Ε/Ν (Eskilstuna)
DESCRIPTION:– www.eskilstuna2015.com\n– www.european-athletics.org/competitions/european-athletics-junior-championships/ \n-> Πρόγραμμα/αποτελέσματα (ΕΑΑ)\n-> Livestream στην κεντρική σελίδα της ΕΑΑ \nΣχετικά θέματα:\n– www.stivoz.com/content.php?5065-Me-7-kai-skytalh-sth-Souidia (ελληνική ομάδα)\n– www.stivoz.com/content.php?5088-Me-10-stin-Eskilstuna (Κυπριακή ομάδα)\n– www.stivoz.com/content.php?5095-Eskilstuna-Aylaia-kai-sto-Europaiko-E-N-tin-Pempti\n– www.stivoz.com/content.php?5098-Eskilstuna-Ksekinise-to-Europaiko-E-N-me-Zoto-Prokrisi-gia-2-Kypries-sprinters (1η ημέρα\, πρωί)\n– www.stivoz.com/content.php?5101-Eskilstuna-Teliko-o-Kyriazis-ektos-i-Rwmaiou-Palepsan-oi-Kypries-Megali-voli-o-Bukowiecki (1η ημέρα\, απόγευμα)\n– www.stivoz.com/content.php?5103-Eskilstuna-Teliko-i-Zakka-Eftase-hmitelika-o-Tsoygias-kai-i-Xristofh (2η ημέρα)\n– www.stivoz.com/content.php?5106-Eskilstuna-5os-o-Tsamoudakis-prokriseis-gia-Rwmaiou-kai-4x400m (3η ημέρα\, πρωί)\n– www.stivoz.com/content.php?5107-Eskilstuna-4os-o-Kyriazis-8i-i-Marinakou (3η ημέρα\, απόγευμα)\n– www.stivoz.com/content.php?5111-Eskilstuna-4i-i-Marinakou-5i-i-4×100-Kyprou-kai-rekor-akyrh-i-4×400 (4η ημέρα) \n– www.stivoz.com/forum/showthread.php?14131 (αποτελέσματα) \n-> Πρόγραμμα\n-> Συμμετοχές\n-> Όρια\n-> Ιστορικό \nΠρόγραμμα (τοπική ώρα\, +1 ώρα για Ελλάδα) \nDAY 1 – Thursday\, 16 July –  \n09:30 	10\,000m Walk 	Women 	Final\n09:30 	Shot Put 	Men 	Q A/B\n10:30 	100m H Hep 	Women\n10:30 	Hammer Throw 	Men 	Q A\n11:00 	100m 	Women 	R1\n11:40 	100m 	Men 	R1\n11:45 	High Jump Hep 	Women 	A/B\n12:20 	400m 	Women 	R1\n12:25 	Hammer Throw 	Men 	Q B\n12:50 	400m 	Men 	R1 \n15:15 	Discus Throw 	Women 	Q A\n15:25 	High Jump 	Men 	Q A/B\n15:35 	Shot Put Hep 	Women 	A/B\n15:50 	800m 	Women 	R1\n16:30 	100m 	Women 	SF\n16:35 	Discus Throw 	Women 	Q B\n16:55 	100m 	Men 	SF\n16:55 	Long Jump 	Men 	Q A/B\n17:30 	1500m 	Men 	R1\n17:30 	Shot Put 	Men 	Final\n18:20 	200m Hep 	Women\n18:20 	Pole Vault 	Women 	Q A/B\n18:30 	Javelin Throw 	Men 	Q A\n18:50 	3000m 	Women 	R1\n19:15 	Triple Jump 	Women 	Q A/B\n19:25 	3000m SC 	Women 	R1\n20:00 	10\,000m 	Men 	Final\n20:00 	Javelin Throw 	Men 	Q B \nDAY 2 – Friday\, 17 July –  \n10:00 	Pole Vault 	Men 	Q A/B\n10:05 	400m H 	Women 	R1\n10:10 	Hammer Throw 	Women 	Q A\n10:50 	High Jump 	Women 	Q A/B\n11:00 	400m H 	Men 	R1\n11:30 	1500m 	Women 	R1\n11:50 	Hammer Throw 	Women 	Q B\n12:00 	800m 	Men 	R1\n12:30 	Long Jump Hep 	Women 	A/B\n12:35 	100m H 	Women 	R1\n13:20 	110m H 	Men 	R1 \n15:30 	Javelin Throw Hep 	Women 	A/ B\n16:00 	100m H 	Women 	SF\n16:15 	Triple Jump 	Women 	Final\n16:25 	110m H 	Men 	SF\n16:50 	800m 	Women 	SF\n17:15 	100m 	Men 	Final\n17:25 	Hammer Throw 	Men 	Final\n17:25 	100m 	Women 	Final\n17:40 	800m Hep 	Women 	Final\n18:00 	3000m SC 	Men 	R1\n18:15 	Long Jump 	Men 	Final\n18:40 	400m 	Women 	SF\n19:05 	Discus Throw 	Women 	Final\n19:05 	400m 	Men 	SF\n19:30 	200m 	Women 	R1\n20:00 	200m 	Men 	R1 \nDAY 3 – Saturday\, 18 July –  \n09:30 	Javelin Throw 	Women 	Q\n09:45 	100m Dec 	Men\n09:45 	Shot Put 	Women 	Q A/B\n10:10 	10\,000m Walk 	Men 	Final\n10:30 	Long Jump Dec 	Men 	A/B\n11:30 	Discus Throw 	Men 	Q A\n11:30 	4x400m 	Women 	R1\n11:50 	Long Jump 	Women 	Q A/B\n11:55 	4x400m 	Men 	R1\n12:00 	Shot Put Dec 	Men 	A/B\n12:50 	Discus Throw 	Men 	Q B \n15:00 	400m H 	Women 	SF\n15:05 	High Jump Dec 	Men 	A/B\n15:20 	400m H 	Men 	SF\n15:30 	Pole Vault 	Women 	Final\n15:35 	Javelin Throw 	Men 	Final\n15:40 	200m 	Women 	SF\n16:00 	200m 	Men 	SF\n16:20 	800m 	Men 	SF\n16:45 	100m H 	Women 	Final\n16:55 	Shot Put 	Women 	Final\n17:00 	110m H 	Men 	Final\n17:15 	800m 	Women 	Final\n17:30 	3000m SC 	Women 	Final\n17:45 	High Jump 	Men 	Final\n17:45 	400m 	Women 	Final\n18:00 	400m 	Men 	Final\n18:15 	Hammer Throw 	Women 	Final\n18:20 	200m 	Women 	Final\n18:35 	200m 	Men 	Final\n18:50 	3000m 	Women 	Final\n19:00 	Triple Jump 	Men 	Q A/B\n19:10 	1500m 	Men 	Final\n19:20 	400m Dec 	Men\n19:50 	5000m 	Men 	Final \nDAY 4 – Sunday\, 19 July – \n09:30 	110m H Dec 	Men\n10:25 	Discus Throw Dec 	Men 	A/B\n10:30 	4x100m 	Women 	R1\n11:10 	4x100m 	Men 	R1\n13:10 	Pole Vault Dec 	Men 	A/B \n14:45 	Discus Throw 	Men 	Final\n15:00 	400m H 	Women 	Final\n15:20 	400m H 	Men 	Final\n15:35 	High Jump 	Women 	Final\n15:40 	800m 	Men 	Final\n15:55 	Triple Jump 	Men 	Final\n16:06 	4x100m 	Women 	Final\n16:20 	4x100m 	Men 	Final\n16:25 	Javelin Throw Dec 	Men 	A/ B\n16:45 	1500m 	Women 	Final\n16:55 	Pole Vault 	Men 	Final\n17:20 	3000m SC 	Men 	Final\n17:50 	Long Jump 	Women 	Final\n17:55 	5000m 	Women 	Final\n18:05 	Javelin Throw 	Women 	Final\n18:35 	1500m Dec 	Men 	Final\n19:05 	4x400m 	Women 	Final\n19:40 	4x400m 	Men 	Final
URL:https://www.stivoz.gr/event/eskilstuna2015/
CATEGORIES:Ημερολόγιο αγώνων
END:VEVENT
END:VCALENDAR