BEGIN:VCALENDAR
VERSION:2.0
PRODID:-//StivoZ.gr - ECPv5.16.4//NONSGML v1.0//EN
CALSCALE:GREGORIAN
METHOD:PUBLISH
X-WR-CALNAME:StivoZ.gr
X-ORIGINAL-URL:https://www.stivoz.gr
X-WR-CALDESC:StivoZ.gr - Εκδηλώσεις
BEGIN:VTIMEZONE
TZID:Europe/Athens
BEGIN:DAYLIGHT
TZOFFSETFROM:+0200
TZOFFSETTO:+0300
TZNAME:EEST
DTSTART:20240331T010000
END:DAYLIGHT
BEGIN:STANDARD
TZOFFSETFROM:+0300
TZOFFSETTO:+0200
TZNAME:EET
DTSTART:20241027T010000
END:STANDARD
END:VTIMEZONE
BEGIN:VEVENT
DTSTART;VALUE=DATE:20240515
DTEND;VALUE=DATE:20240516
DTSTAMP:20260422T224826
CREATED:20240416T084430Z
LAST-MODIFIED:20240517T135019Z
UID:113848-1715731200-1715817599@www.stivoz.gr
SUMMARY:Δρόμεια (Βάρη)
DESCRIPTION:International Sprint and Relays Meeting\nκατ. “B” \nΣχετικά θέματα:\n– www.stivoz.gr/dromeia-grigores-koyrses-pesiridoy-papagiannis/\n– www.stivoz.gr/dromeia-2024/ (αποτελέσματα) \nΝέο πρόγραμμα (αν.14/5) : \n17:30 400μ. εμπ. Α\n17:40 400μ. εμπ. Γ\n17:50 200μ. Α (πρώτες 2 σειρές)\n18:05 200μ. Γ (πρώτες 2 σειρές)\n18:20 100μ. ΑμεΑ\n18:30 100μ. Α (πρώτες 2 σειρές)\n18:45 100μ. Γ (πρώτες 2 σειρές)\n19:00 τελετή έναρξης\n19:30 200μ. Α (2 σειρές)\n19:42 200μ. Γ  (2 σειρές)\n19:56 100μ. Α (2 σειρές)\n20:10 100μ. Γ (2 σειρές)\n20:26 100μ. εμπ. Γ (2 σειρές)\n20:42 110μ. εμπ. Γ (2 σειρές)\n20:56 400μ. Α\n21:02 400μ. Γ\n21:10 4χ100μ. Α (2 σειρές)\n21:26 4χ100μ. Γ \nαγώνες teen \n16:00 ΤΕΤΡΑΠΛΟΥΝ ΑΓΟΡΙΩΝ\n16:00 80m ΕΜΠΟΔΙΑ Κ16 ΚΟΡΙΤΣΙΩΝ\n16:15 100m ΕΜΠΟΔΙΑ Κ16 ΑΓΟΡΙΩΝ\n16:30 80m Κ16 ΚΟΡΙΤΣΙΩΝ\n16:40 ΤΕΤΡΑΠΛΟΥΝ ΚΟΡΙΤΣΙΩΝ\n16:40 80m Κ16 ΑΓΟΡΙΩΝ\n16:50 150m K16 ΚΟΡΙΤΣΙΩΝ\n17:00 150m K16 ΑΓΟΡΙΩΝ
URL:https://www.stivoz.gr/event/dromeia-2024/
CATEGORIES:Ημερολόγιο αγώνων
END:VEVENT
END:VCALENDAR