BEGIN:VCALENDAR
VERSION:2.0
PRODID:-//StivoZ.gr - ECPv5.16.4//NONSGML v1.0//EN
CALSCALE:GREGORIAN
METHOD:PUBLISH
X-WR-CALNAME:StivoZ.gr
X-ORIGINAL-URL:https://www.stivoz.gr
X-WR-CALDESC:StivoZ.gr - Εκδηλώσεις
BEGIN:VTIMEZONE
TZID:Europe/Athens
BEGIN:STANDARD
TZOFFSETFROM:+0200
TZOFFSETTO:+0200
TZNAME:EET
DTSTART:20180101T000000
END:STANDARD
END:VTIMEZONE
BEGIN:VEVENT
DTSTART;VALUE=DATE:20180526
DTEND;VALUE=DATE:20260421
DTSTAMP:20260420T110139
CREATED:20180427T084405Z
LAST-MODIFIED:20220513T100235Z
UID:29341-1527292800-0@www.stivoz.gr
SUMMARY:Δρόμεια (Βάρη)
DESCRIPTION:Σχετικά θέματα:\n– www.stivoz.com/content.php?6688-H-Spanoudaki-protagonistria-sta-Dromeia-Timithike-i-Patoulidou\n– www.stivoz.com/forum/showthread.php?17642 (αποτελέσματα) \n-> Συμμετοχές \nΠρόγραμμα: \nαπό 16:00 \n50μ. ΜΙΝΙ ΠΚ 2007-2008\n50μ. ΜΙΝΙ ΠΠ ακαδημίες 2009-2013\n50μ. ΜΙΝΙ ΠΚ ακαδημίες 2009-2013\n60μ. ΠΠΒ 2005-2006\n60μ. ΠΚΒ2005-2006\n80μ. ΠΚΑ 2003-2004\n80μ. ΠΠΑ 2003-2004 \nΚύριο πρόγραμμα:  \n18.45΄	400 μ.  ΓΥΝΑΙΚΩΝ\n19.00΄	400 μ. ΑΝΔΡΩΝ\n19.20΄	200 μ.  ΓΥΝΑΙΚΩΝ\n19.45΄	200 μ.  ΑΝΔΡΩΝ\n20.00΄	100 μ.     ΓΥΜΑΙΚΩΝ\n20.20΄	100 μ.  ΑΝΔΡΩΝ\n20.50	Βραβεύσεις\n21.10΄	100 μ. εμπ. ΓΥΝΑΙΚΩΝ\n21.25΄	110 μ. εμπ. ΑΝΔΡΩΝ\n21.45ʼ	400 μ. εμπ. ΑΝΔΡΩΝ\n21.55΄	4Χ100 μ.  ΑΝΔΡΩΝ\n22.05΄	4Χ100 μ. ΓΥΝΑΙΚΩΝ \nΔηλώσεις συμμετοχής έως 15/5 (2μμ) στο chriskarouzos@gmail.com & competition@segas.gr
URL:https://www.stivoz.gr/event/dromeia-2018/
CATEGORIES:Ημερολόγιο αγώνων
END:VEVENT
END:VCALENDAR