BEGIN:VCALENDAR
VERSION:2.0
PRODID:-//StivoZ.gr - ECPv5.16.4//NONSGML v1.0//EN
CALSCALE:GREGORIAN
METHOD:PUBLISH
X-WR-CALNAME:StivoZ.gr
X-ORIGINAL-URL:https://www.stivoz.gr
X-WR-CALDESC:StivoZ.gr - Εκδηλώσεις
BEGIN:VTIMEZONE
TZID:Europe/Athens
BEGIN:DAYLIGHT
TZOFFSETFROM:+0200
TZOFFSETTO:+0300
TZNAME:EEST
DTSTART:20100328T010000
END:DAYLIGHT
BEGIN:STANDARD
TZOFFSETFROM:+0300
TZOFFSETTO:+0200
TZNAME:EET
DTSTART:20101031T010000
END:STANDARD
END:VTIMEZONE
BEGIN:VEVENT
DTSTART;VALUE=DATE:20100312
DTEND;VALUE=DATE:20100315
DTSTAMP:20260422T034208
CREATED:20100104T162823Z
LAST-MODIFIED:20181218T103244Z
UID:28349-1268384400-1268600400@www.stivoz.gr
SUMMARY:Παγκόσμιο κλειστού (Doha)
DESCRIPTION:http://www.doha2010wic.com/ \nΣχετικά θέματα:\nhttp://www.stivoz.gr/?p=10758\nhttp://www.stivoz.gr/?p=10757 (προεπισκόπηση)\nhttp://www.stivoz.com/forum/showthread.php?t=3786\nhttp://www.stivoz.gr/?p=10756 (Α’ ημέρα)\nhttp://www.stivoz.com/forum/showthread.php?t=3791 (Β’ ημέρα)\nhttp://www.stivoz.gr/?p=10752 (Γ’ ημέρα)\nhttp://www.stivoz.gr/?p=17292 (αποτελέσματα) \nπρόγραμμα (http://www.doha2010wic.com/wp-content/uploads/2009/12/time-table.pdf) \nFriday 12th March (1st session) \nTime Discipline Gender Round\n09:00  Triple Jump Women Qualification (Περρα)\n09:00  400m Women Round 1\n09:15  Pole Vault Men Qualification (Φιλιππίδης)\n09:20  Shot Put Men Qualification (Σταματόγιαννης)\n09:30  High Jump Women Qualification\n09:35  400m Men Round 1\n10:15  60m Men Heptathlon\n10:30  800m Women Round 1\n10:50  Long Jump Men Heptathlon\n11:05  800m Men Round 1  \nFriday 12th March (2nd session) νέα ώρα\nTime Discipline Gender Round\n14:00 3000m Women Round 1\n14:20 Triple Jump Men Qualification (Τσιαμης)\n14:30 High Jump Men Qualification (Ιωάννου)\n14:35 60m hurdles Women Round 1\n15:00 60m Men Round 1 (Αγγελάκης)\n15:45 1500m Men Round 1\n16:20 Pole Vault Women Qualification (Κυριακοπούλου\, Σκαφίδα\, Ζαχαριάδη)\n16:30 1500m Women Round 1\n16:35 Shot Put Men Heptathlon\n16:45 Long Jump Men Qualification\n17:10 3000m Men Round 1\n17:30 High Jump Men Heptathlon\n17:50 60m hurdles Men Round 1\n18:25 60m Women Round 1\n19:05 400m Women Semi-final\n19:30 400m Men Semi-final\n20:00 Opening Ceremony \nSaturday 13th March (3rd session)\n09:00  60m hurdles  Women Pentathlon\n09:15  60m hurdles  Men Heptathlon\n09:20  Shot Put  Women Qualification\n09:40  High Jump  Women Pentathlon\n10:00  Long Jump  Women Qualification\n10:00  4χ400m Men Round 1\n10:30  800m Women Semi-Final\n10:40  Pole Vault  Men Heptathlon\n11:00  800m Men Semi-Final\n11:30 4χ400m Women Round 1\n12:00 Shot Put  Women Pentathlon  \nSaturday 13th March (4th session)\nTime Discipline Gender Round\n14:45 Long Jump  Women Pentathlon\n16:00 Triple Jump  Women Final\n16:00 60m hurdles  Women Semi-Final\n16:15 Pole Vault  Men Final\n16:20 Shot Put  Men Final\n16:20 60m Men Semi-Final\n16:40 1000m Men Heptathlon\n16:55 3000m Women Final\n17:05 High Jump* Women Final\n17:10 800m Women Pentathlon\n17:20 MC M Heptathlon\n17:30 400m Women Final\n17:35 MC W 3000m\n17:45 Long Jump* Men Final\n17:45 1500m Men Final\n17:50 MC W Triple Jump\n17:55 MC Pentathlon\n18:05 400m Men Final\n18:10 MC M Shot\n18:15 MC W 400m\n18:25 60m hurdles Women Final\n18:30 MC M 1500m\n18:35 MC M PV\n18:40 MC M 400m\n18:50 60m* Men Final\n19:00 MC W 60mH *   \nMC the following day  \nSunday 14th March (5th session)\n15:45 MC W LJ\n15:50 MC W HJ\n16:00 Long Jump Women Final\n16:00 60m Women Semi-Final\n16:20 Pole Vault Women Final\n16:25 60m hurdles Men Semi-Final\n16:35 Shot Put Women Final\n16:45 1500m Women Final\n16:50 MC M 60m\n17:00 3000m Men Final\n17:00 High Jump** Men Final\n17:15 800m Women Final\n17:20 MC W 1500m\n17:30 800m Men Final\n17:35 MC M 3000m\n17:40 Triple Jump** Men Final\n17:45 4×400m Women Final\n17:55 MC W LJ\n18:10 60m Women Final\n18:15 MC W 800m\n18:00 MC W Shot\n18:25 60m hurdles** Men\n18:30 MC M 800m Men Final\n18:35 MC W 4×400m\n18:50 4×400m** Men Final\n18:55 MC W PV\n19:00 MC W 60m   \n**MC at Final Banquet (Men’s: HJ\, TJ\, M 60mH\, 4×400m)
URL:https://www.stivoz.gr/event/doha2010/
CATEGORIES:Ημερολόγιο αγώνων
END:VEVENT
END:VCALENDAR