BEGIN:VCALENDAR
VERSION:2.0
PRODID:-//StivoZ.gr - ECPv5.16.4//NONSGML v1.0//EN
CALSCALE:GREGORIAN
METHOD:PUBLISH
X-WR-CALNAME:StivoZ.gr
X-ORIGINAL-URL:https://www.stivoz.gr
X-WR-CALDESC:StivoZ.gr - Εκδηλώσεις
BEGIN:VTIMEZONE
TZID:Europe/Athens
BEGIN:DAYLIGHT
TZOFFSETFROM:+0200
TZOFFSETTO:+0300
TZNAME:EEST
DTSTART:20200329T010000
END:DAYLIGHT
BEGIN:STANDARD
TZOFFSETFROM:+0300
TZOFFSETTO:+0200
TZNAME:EET
DTSTART:20201025T010000
END:STANDARD
END:VTIMEZONE
BEGIN:VEVENT
DTSTART;VALUE=DATE:20200627
DTEND;VALUE=DATE:20200629
DTSTAMP:20260421T002839
CREATED:20200612T142455Z
LAST-MODIFIED:20200704T214829Z
UID:67521-1593216000-1593388799@www.stivoz.gr
SUMMARY:Διασυλλογικό Κ16
DESCRIPTION:Σχετικά θέματα:\n– www.stivoz.gr/diasyllogiko-pp-pk-2020/ (Αποτελέσματα) \n-> Προκήρυξη \nΌμιλοι: \n\nΘράκη : 20/6 ΑΛΕΞΑΝΔΡΟΥΠΟΛΗ\nAνατ.Mακεδονία : 21/6 ΚΑΒΑΛΑ\nΠέλλα-Κιλκίς : 20/6 ΓΙΑΝΝΙΤΣΑ\nΗμαθία-Πιερία : 21/6 ΚΑΤΕΡΙΝΗ\nΘεσσαλονίκη : 28/6 ΘΕΣΣΑΛΟΝΙΚΗ-ΚΑΥΤΑΝΖΟΓΛΕΙΟ\nΔυτ.Μακεδονία : 28/6 ΓΡΕΒΕΝΑ\nΉπειρος : 21/6 ΓΙΑΝΝΕΝΑ\nΚέρκυρα : 28/6 ΚΕΡΚΥΡΑ\nΛάρισα-Μαγνησία : 27/6 ΛΑΡΙΣΑ\nΤρίκαλα-Καρδίτσα : 28/6 ΚΑΡΔΙΤΣΑ ή ΛΑΡΙΣΑ\nΒ.Πελοπον./Αχαία : 21/6 ΠΑΤΡΑ\nΠελοπόννησος : 29/6 ΤΡΙΠΟΛΗ\nΑθήνα : 28/6 ΑΓ ΚΟΣΜΑΣ\nΧαλκίδα : 28/6 ΧΑΛΚΙΔΑ\nΠειραιάς-Δυτ.Αττική : 29/6 ΑΓ ΚΟΣΜΑΣ\nΗράκλειο-Λασίθι : 28/6 ΗΡΑΚΛΕΙΟ\nΧανιά-Ρέθυμνο : 28/6 ΧΑΝΙΑ\nΜύκονος-Σύρος-Τήνος-Άνδρος-Μήλος : 28/6 ΜΥΚΟΝΟΣ\nΝάξος-Πάρος-Σαντορίνη : 28/6 ΝΑΞΟΣ\nΡόδος : 25/6 ΡΟΔΟΣ\nΚως-Λέρος-Πάτμος-Κάλυμνος : 28/6 ΚΩΣ\nΧίος-Σάμος-Ικαρία : 28/6 ΧΙΟΣ\nΛέσβος : 28/6 ΜΥΤΙΛΗΝΗ\nΛήμνος : 28/6 ΜΥΡΙΝΑ
URL:https://www.stivoz.gr/event/diasyllogiko-pp-pk-2020/
CATEGORIES:Ημερολόγιο αγώνων
END:VEVENT
END:VCALENDAR