BEGIN:VCALENDAR
VERSION:2.0
PRODID:-//StivoZ.gr - ECPv5.16.4//NONSGML v1.0//EN
CALSCALE:GREGORIAN
METHOD:PUBLISH
X-WR-CALNAME:StivoZ.gr
X-ORIGINAL-URL:https://www.stivoz.gr
X-WR-CALDESC:StivoZ.gr - Εκδηλώσεις
BEGIN:VTIMEZONE
TZID:Europe/Athens
BEGIN:DAYLIGHT
TZOFFSETFROM:+0200
TZOFFSETTO:+0300
TZNAME:EEST
DTSTART:20250330T010000
END:DAYLIGHT
BEGIN:STANDARD
TZOFFSETFROM:+0300
TZOFFSETTO:+0200
TZNAME:EET
DTSTART:20251026T010000
END:STANDARD
END:VTIMEZONE
BEGIN:VEVENT
DTSTART;VALUE=DATE:20250827
DTEND;VALUE=DATE:20250829
DTSTAMP:20260422T035227
CREATED:20250423T121532Z
LAST-MODIFIED:20250827T163952Z
UID:123888-1756252800-1756425599@www.stivoz.gr
SUMMARY:Diamond League (Zurich) final
DESCRIPTION:zurich.diamondleague.com \nΣχετικά θέματα:\n– www.stivoz.gr/diamond-league-final-2025/ (αποτελέσματα) \n-> Ιστορικό\n-> Αποτελέσματα τελικών\n-> Νικητές D.L. \nΠρόγραμμα\n(τοπική ώρα\, +1 για Ελλάδα) \nΤΕΤΑΡΤΗ 27 \n17:05 Shot Put Men\n17:05 Shot Put Women\n17:15 High Jump Women\n17:43 Pole Vault Men\n18:35 Long Jump Men \nΠΕΜΠΤΗ 28 \n17:30 Discus Men\n17:30 Discus Women\n17:53 High Jump Men\n18:19 Triple Jump Men\n18:19 Triple Jump Women\n18:34 400m Women\n18:42 400m Men\n18:49 3000m Women\n19:08 100mH Women\n19:17 3000m SC Men\n19:34 110mH Men\n19:40 1500m Women\n19:45 Javelin Men\n19:45 Javelin Women\n19:50 1500m Men\n19:50 Pole Vault Women\n20:02 100m Women\n20:09 3000m SC Women\n20:27 100m Men\n20:35 400mH Women\n20:40 Long Jump Women\n20:44 400mH Men\n20:52 3000m Men\n21:09 800m Women\n21:20 800m Men\n21:30 200m Women\n21:39 200m Men
URL:https://www.stivoz.gr/event/diamond-league-zurich-2025/
CATEGORIES:Ημερολόγιο αγώνων
END:VEVENT
END:VCALENDAR