BEGIN:VCALENDAR
VERSION:2.0
PRODID:-//StivoZ.gr - ECPv5.16.4//NONSGML v1.0//EN
CALSCALE:GREGORIAN
METHOD:PUBLISH
X-WR-CALNAME:StivoZ.gr
X-ORIGINAL-URL:https://www.stivoz.gr
X-WR-CALDESC:StivoZ.gr - Εκδηλώσεις
BEGIN:VTIMEZONE
TZID:Europe/Athens
BEGIN:DAYLIGHT
TZOFFSETFROM:+0200
TZOFFSETTO:+0300
TZNAME:EEST
DTSTART:20220327T010000
END:DAYLIGHT
BEGIN:STANDARD
TZOFFSETFROM:+0300
TZOFFSETTO:+0200
TZNAME:EET
DTSTART:20221030T010000
END:STANDARD
END:VTIMEZONE
BEGIN:VEVENT
DTSTART;VALUE=DATE:20220907
DTEND;VALUE=DATE:20220909
DTSTAMP:20260422T035226
CREATED:20211212T092913Z
LAST-MODIFIED:20220909T062304Z
UID:86264-1662508800-1662681599@www.stivoz.gr
SUMMARY:Diamond League (Zurich) final
DESCRIPTION:https://zurich.diamondleague.com/ \nΣχετικά θέματα:\n– www.stivoz.gr/zurich-megali-voli-o-kovacs-stin-plateia/\n– www.stivoz.gr/zurich-aylaia-me-diamanti-o-tentogloy/\n–\n– www.stivoz.gr/diamond-league-final-2022/ (αποτελέσματα)
URL:https://www.stivoz.gr/event/diamond-league-zurich-2022/
CATEGORIES:Ημερολόγιο αγώνων
END:VEVENT
END:VCALENDAR