BEGIN:VCALENDAR
VERSION:2.0
PRODID:-//StivoZ.gr - ECPv5.16.4//NONSGML v1.0//EN
CALSCALE:GREGORIAN
METHOD:PUBLISH
X-WR-CALNAME:StivoZ.gr
X-ORIGINAL-URL:https://www.stivoz.gr
X-WR-CALDESC:StivoZ.gr - Εκδηλώσεις
BEGIN:VTIMEZONE
TZID:Europe/Athens
BEGIN:DAYLIGHT
TZOFFSETFROM:+0200
TZOFFSETTO:+0300
TZNAME:EEST
DTSTART:20190331T010000
END:DAYLIGHT
BEGIN:STANDARD
TZOFFSETFROM:+0300
TZOFFSETTO:+0200
TZNAME:EET
DTSTART:20191027T010000
END:STANDARD
END:VTIMEZONE
BEGIN:VEVENT
DTSTART;VALUE=DATE:20190829
DTEND;VALUE=DATE:20190830
DTSTAMP:20260420T002835
CREATED:20181223T103750Z
LAST-MODIFIED:20190906T173653Z
UID:41347-1567036800-1567123199@www.stivoz.gr
SUMMARY:Diamond League (Zurich) final#1
DESCRIPTION:https://zurich.diamondleague.com/ \nΣχετικά θέματα:\n– https://www.stivoz.gr/o-1os-telikos-sti-zyrichi-me-treis-ellinikes-symmetoxes/\n– https://www.stivoz.gr/d-l-zurich-neo-rekor-europis-o-warholm/\n– https://www.stivoz.gr/d-l-zurich-3i-niki-miller-gong-5oi-tentoglou-papachristou/
URL:https://www.stivoz.gr/event/diamond-league-zurich-2019/
CATEGORIES:Ημερολόγιο αγώνων
END:VEVENT
END:VCALENDAR