BEGIN:VCALENDAR
VERSION:2.0
PRODID:-//StivoZ.gr - ECPv5.16.4//NONSGML v1.0//EN
CALSCALE:GREGORIAN
METHOD:PUBLISH
X-WR-CALNAME:StivoZ.gr
X-ORIGINAL-URL:https://www.stivoz.gr
X-WR-CALDESC:StivoZ.gr - Εκδηλώσεις
BEGIN:VTIMEZONE
TZID:Europe/Athens
BEGIN:STANDARD
TZOFFSETFROM:+0200
TZOFFSETTO:+0200
TZNAME:EET
DTSTART:20160101T000000
END:STANDARD
END:VTIMEZONE
BEGIN:VEVENT
DTSTART;VALUE=DATE:20160901
DTEND;VALUE=DATE:20260421
DTSTAMP:20260420T212622
CREATED:20151021T203240Z
LAST-MODIFIED:20181218T091429Z
UID:29049-1472688000-0@www.stivoz.gr
SUMMARY:Diamond League #13 (Zurich)
DESCRIPTION:http://zurich.diamondleague.com/ \nΣχετικά θέματα:\n– www.stivoz.com/content.php?5837-Triti-i-Stefanidi-ston-stathmo-tis-Zyrixis\n– www.stivoz.com/content.php?5838-Zurich-Powell-Thompson-ta-sprint-xehorisan-kai-Walsh-Taylor-apolito-nikon-gia-Perkovic
URL:https://www.stivoz.gr/event/diamond-league-zurich-2016/
CATEGORIES:Ημερολόγιο αγώνων
END:VEVENT
END:VCALENDAR