BEGIN:VCALENDAR
VERSION:2.0
PRODID:-//StivoZ.gr - ECPv5.16.4//NONSGML v1.0//EN
CALSCALE:GREGORIAN
METHOD:PUBLISH
X-WR-CALNAME:StivoZ.gr
X-ORIGINAL-URL:https://www.stivoz.gr
X-WR-CALDESC:StivoZ.gr - Εκδηλώσεις
BEGIN:VTIMEZONE
TZID:Europe/Athens
BEGIN:STANDARD
TZOFFSETFROM:+0200
TZOFFSETTO:+0200
TZNAME:EET
DTSTART:20150101T000000
END:STANDARD
END:VTIMEZONE
BEGIN:VEVENT
DTSTART;VALUE=DATE:20150903
DTEND;VALUE=DATE:20260423
DTSTAMP:20260422T055132
CREATED:20141220T185035Z
LAST-MODIFIED:20181218T093157Z
UID:28941-1441238400-0@www.stivoz.gr
SUMMARY:Diamond League #13 (Zurich)
DESCRIPTION:zurich.diamondleague.com\nWeltklasse Zuerich\n1st final \n-> ιστορικό \nΣχετικά θέματα:\n– www.stivoz.com/content.php?5194-H-Kyriakopoyloy-nikitria-kai-adamantini-sti-Zyrichi\n– www.stivoz.com/content.php?5195-Pagkosmia-klassi-kai-15-kai-1-diamantia-sti-Zyrichi
URL:https://www.stivoz.gr/event/diamond-league-zurich-2015/
CATEGORIES:Ημερολόγιο αγώνων
END:VEVENT
END:VCALENDAR