BEGIN:VCALENDAR
VERSION:2.0
PRODID:-//StivoZ.gr - ECPv5.16.4//NONSGML v1.0//EN
CALSCALE:GREGORIAN
METHOD:PUBLISH
X-WR-CALNAME:StivoZ.gr
X-ORIGINAL-URL:https://www.stivoz.gr
X-WR-CALDESC:StivoZ.gr - Εκδηλώσεις
BEGIN:VTIMEZONE
TZID:Europe/Athens
BEGIN:STANDARD
TZOFFSETFROM:+0200
TZOFFSETTO:+0200
TZNAME:EET
DTSTART:20100101T000000
END:STANDARD
END:VTIMEZONE
BEGIN:VEVENT
DTSTART;VALUE=DATE:20100819
DTEND;VALUE=DATE:20260423
DTSTAMP:20260422T035221
CREATED:20100104T154710Z
LAST-MODIFIED:20181218T102308Z
UID:28380-1282176000-0@www.stivoz.gr
SUMMARY:Diam.L.#13 Zuerich
DESCRIPTION:http://www.diamondleague-zurich.com \nΣχετικά θέματα:\nhttp://www.stivoz.com/forum/showthread.php?4286\nhttp://www.stivoz.com/forum/showthread.php?4295
URL:https://www.stivoz.gr/event/diamond-league-zurich-2010/
CATEGORIES:Ημερολόγιο αγώνων
END:VEVENT
END:VCALENDAR