BEGIN:VCALENDAR
VERSION:2.0
PRODID:-//StivoZ.gr - ECPv5.16.4//NONSGML v1.0//EN
CALSCALE:GREGORIAN
METHOD:PUBLISH
X-WR-CALNAME:StivoZ.gr
X-ORIGINAL-URL:https://www.stivoz.gr
X-WR-CALDESC:StivoZ.gr - Εκδηλώσεις
BEGIN:VTIMEZONE
TZID:Europe/Athens
BEGIN:STANDARD
TZOFFSETFROM:+0200
TZOFFSETTO:+0200
TZNAME:EET
DTSTART:20130101T000000
END:STANDARD
END:VTIMEZONE
BEGIN:VEVENT
DTSTART;VALUE=DATE:20130829
DTEND;VALUE=DATE:20260421
DTSTAMP:20260420T033456
CREATED:20120524T071744Z
LAST-MODIFIED:20181218T095111Z
UID:28701-1377734400-0@www.stivoz.gr
SUMMARY:Diamond League #13 (Zuerich)
DESCRIPTION:www.diamondleague-zurich.com \nΣχετικά θέματα:\n– www.stivoz.com/forum/showthread.php?9924 (Μπανιώτης – Κυριακοπούλου)\n– www.stivoz.com/forum/showthread.php?9926
URL:https://www.stivoz.gr/event/diamond-league-zuerich-2013/
CATEGORIES:Ημερολόγιο αγώνων
END:VEVENT
END:VCALENDAR