BEGIN:VCALENDAR
VERSION:2.0
PRODID:-//StivoZ.gr - ECPv5.16.4//NONSGML v1.0//EN
CALSCALE:GREGORIAN
METHOD:PUBLISH
X-WR-CALNAME:StivoZ.gr
X-ORIGINAL-URL:https://www.stivoz.gr
X-WR-CALDESC:StivoZ.gr - Εκδηλώσεις
BEGIN:VTIMEZONE
TZID:Europe/Athens
BEGIN:STANDARD
TZOFFSETFROM:+0200
TZOFFSETTO:+0200
TZNAME:EET
DTSTART:20110101T000000
END:STANDARD
END:VTIMEZONE
BEGIN:VEVENT
DTSTART;VALUE=DATE:20110729
DTEND;VALUE=DATE:20260421
DTSTAMP:20260420T024859
CREATED:20110113T133507Z
LAST-MODIFIED:20250423T131522Z
UID:28556-1311897600-0@www.stivoz.gr
SUMMARY:11o Diamond L. (Stockholm SWE)
DESCRIPTION:www.diamondleague-stockholm.com \nΣχετικά θέματα:\n– www.stivoz.com/forum/showthread.php?5528\n– www.stivoz.com/forum/showthread.php?5532
URL:https://www.stivoz.gr/event/diamond-league-stockholm-2011/
CATEGORIES:Ημερολόγιο αγώνων
END:VEVENT
END:VCALENDAR