BEGIN:VCALENDAR
VERSION:2.0
PRODID:-//StivoZ.gr - ECPv5.16.4//NONSGML v1.0//EN
CALSCALE:GREGORIAN
METHOD:PUBLISH
X-WR-CALNAME:StivoZ.gr
X-ORIGINAL-URL:https://www.stivoz.gr
X-WR-CALDESC:StivoZ.gr - Εκδηλώσεις
BEGIN:VTIMEZONE
TZID:Europe/Athens
BEGIN:DAYLIGHT
TZOFFSETFROM:+0200
TZOFFSETTO:+0300
TZNAME:EEST
DTSTART:20240331T010000
END:DAYLIGHT
BEGIN:STANDARD
TZOFFSETFROM:+0300
TZOFFSETTO:+0200
TZNAME:EET
DTSTART:20241027T010000
END:STANDARD
END:VTIMEZONE
BEGIN:VEVENT
DTSTART;VALUE=DATE:20240825
DTEND;VALUE=DATE:20240826
DTSTAMP:20260422T071734
CREATED:20240715T100157Z
LAST-MODIFIED:20240827T113107Z
UID:118087-1724544000-1724630399@www.stivoz.gr
SUMMARY:Diamond League (Silesia) #12
DESCRIPTION:Σχετικά θέματα:\n– www.stivoz.gr/silesia-6metros-o-karalis-10o-wr-o-duplantis/\n– www.stivoz.gr/silesia-megalo-pagkosmio-o-ingebrigtsen/
URL:https://www.stivoz.gr/event/diamond-league-silesia-2024/
CATEGORIES:Ημερολόγιο αγώνων
END:VEVENT
END:VCALENDAR