BEGIN:VCALENDAR
VERSION:2.0
PRODID:-//StivoZ.gr - ECPv5.16.4//NONSGML v1.0//EN
CALSCALE:GREGORIAN
METHOD:PUBLISH
X-WR-CALNAME:StivoZ.gr
X-ORIGINAL-URL:https://www.stivoz.gr
X-WR-CALDESC:StivoZ.gr - Εκδηλώσεις
BEGIN:VTIMEZONE
TZID:Europe/Athens
BEGIN:STANDARD
TZOFFSETFROM:+0200
TZOFFSETTO:+0200
TZNAME:EET
DTSTART:20180101T000000
END:STANDARD
END:VTIMEZONE
BEGIN:VEVENT
DTSTART;VALUE=DATE:20180531
DTEND;VALUE=DATE:20260422
DTSTAMP:20260421T054218
CREATED:20180418T065204Z
LAST-MODIFIED:20190718T204539Z
UID:29325-1527724800-0@www.stivoz.gr
SUMMARY:Diamond League #04 (Rome)
DESCRIPTION:https://rome.diamondleague.com/home/ \n-> Πρόγραμμα / συμμετοχές / αποτελέσματα
URL:https://www.stivoz.gr/event/diamond-league-rome-2018/
CATEGORIES:Ημερολόγιο αγώνων
END:VEVENT
END:VCALENDAR