BEGIN:VCALENDAR
VERSION:2.0
PRODID:-//StivoZ.gr - ECPv5.16.4//NONSGML v1.0//EN
CALSCALE:GREGORIAN
METHOD:PUBLISH
X-WR-CALNAME:StivoZ.gr
X-ORIGINAL-URL:https://www.stivoz.gr
X-WR-CALDESC:StivoZ.gr - Εκδηλώσεις
BEGIN:VTIMEZONE
TZID:Europe/Athens
BEGIN:STANDARD
TZOFFSETFROM:+0200
TZOFFSETTO:+0200
TZNAME:EET
DTSTART:20120101T000000
END:STANDARD
END:VTIMEZONE
BEGIN:VEVENT
DTSTART;VALUE=DATE:20120531
DTEND;VALUE=DATE:20260421
DTSTAMP:20260420T004813
CREATED:20120509T202046Z
LAST-MODIFIED:20250423T131438Z
UID:28663-1338422400-0@www.stivoz.gr
SUMMARY:Diamond League #03 (Rome)
DESCRIPTION:www.diamondleague-rome.com \nΣχετικά θέματα:\n– www.stivoz.com/forum/showthread.php?6939\n– www.stivoz.com/forum/showthread.php?6950
URL:https://www.stivoz.gr/event/diamond-league-rome-2012/
CATEGORIES:Ημερολόγιο αγώνων
END:VEVENT
END:VCALENDAR