BEGIN:VCALENDAR
VERSION:2.0
PRODID:-//StivoZ.gr - ECPv5.16.4//NONSGML v1.0//EN
CALSCALE:GREGORIAN
METHOD:PUBLISH
X-WR-CALNAME:StivoZ.gr
X-ORIGINAL-URL:https://www.stivoz.gr
X-WR-CALDESC:StivoZ.gr - Εκδηλώσεις
BEGIN:VTIMEZONE
TZID:Europe/Athens
BEGIN:STANDARD
TZOFFSETFROM:+0200
TZOFFSETTO:+0200
TZNAME:EET
DTSTART:20180101T000000
END:STANDARD
END:VTIMEZONE
BEGIN:VEVENT
DTSTART;VALUE=DATE:20180630
DTEND;VALUE=DATE:20260420
DTSTAMP:20260419T182057
CREATED:20180418T065829Z
LAST-MODIFIED:20190718T204512Z
UID:29328-1530316800-0@www.stivoz.gr
SUMMARY:Diamond League #07 (Paris)
DESCRIPTION:https://paris.diamondleague.com
URL:https://www.stivoz.gr/event/diamond-league-paris-2018/
CATEGORIES:Ημερολόγιο αγώνων
END:VEVENT
END:VCALENDAR