BEGIN:VCALENDAR
VERSION:2.0
PRODID:-//StivoZ.gr - ECPv5.16.4//NONSGML v1.0//EN
CALSCALE:GREGORIAN
METHOD:PUBLISH
X-WR-CALNAME:StivoZ.gr
X-ORIGINAL-URL:https://www.stivoz.gr
X-WR-CALDESC:StivoZ.gr - Εκδηλώσεις
BEGIN:VTIMEZONE
TZID:Europe/Athens
BEGIN:DAYLIGHT
TZOFFSETFROM:+0200
TZOFFSETTO:+0300
TZNAME:EEST
DTSTART:20190331T010000
END:DAYLIGHT
BEGIN:STANDARD
TZOFFSETFROM:+0300
TZOFFSETTO:+0200
TZNAME:EET
DTSTART:20191027T010000
END:STANDARD
END:VTIMEZONE
BEGIN:VEVENT
DTSTART;VALUE=DATE:20190613
DTEND;VALUE=DATE:20190614
DTSTAMP:20260419T202539
CREATED:20181223T102754Z
LAST-MODIFIED:20190614T065838Z
UID:41328-1560384000-1560470399@www.stivoz.gr
SUMMARY:Diamond League (Oslo) #5
DESCRIPTION:https://oslo.diamondleague.com \n-> Πρόγραμμα / συμμετοχές / αποτελέσματα \nΣχετικά θέματα:\n– https://www.stivoz.gr/ta-bislett-games-stis-13-6-me-papachristoy-ibarguen-kai-lasitskene-vetter-chepkoech/\n– https://www.stivoz.gr/oslo-rekor-europis-o-warholm-ekleise-gia-tokyo-i-papachristou/
URL:https://www.stivoz.gr/event/diamond-league-oslo-2019/
CATEGORIES:Ημερολόγιο αγώνων
END:VEVENT
END:VCALENDAR