BEGIN:VCALENDAR
VERSION:2.0
PRODID:-//StivoZ.gr - ECPv5.16.4//NONSGML v1.0//EN
CALSCALE:GREGORIAN
METHOD:PUBLISH
X-WR-CALNAME:StivoZ.gr
X-ORIGINAL-URL:https://www.stivoz.gr
X-WR-CALDESC:StivoZ.gr - Εκδηλώσεις
BEGIN:VTIMEZONE
TZID:Europe/Athens
BEGIN:STANDARD
TZOFFSETFROM:+0200
TZOFFSETTO:+0200
TZNAME:EET
DTSTART:20180101T000000
END:STANDARD
END:VTIMEZONE
BEGIN:VEVENT
DTSTART;VALUE=DATE:20180607
DTEND;VALUE=DATE:20260420
DTSTAMP:20260419T182054
CREATED:20180418T065540Z
LAST-MODIFIED:20190718T204531Z
UID:29326-1528329600-0@www.stivoz.gr
SUMMARY:Diamond League #05 (Oslo)
DESCRIPTION:https://oslo.diamondleague.com/home/\n-> Πρόγραμμα / συμμετοχές / αποτελέσματα \nΣχετικά θέματα:\n– www.stivoz.com/content.php?6718-Oslo-Dynates-ripseis-kai-sprint-lathos-sta-steeple-Patatrak-oi-Ellinides
URL:https://www.stivoz.gr/event/diamond-league-oslo-2018/
CATEGORIES:Ημερολόγιο αγώνων
END:VEVENT
END:VCALENDAR