BEGIN:VCALENDAR
VERSION:2.0
PRODID:-//StivoZ.gr - ECPv5.16.4//NONSGML v1.0//EN
CALSCALE:GREGORIAN
METHOD:PUBLISH
X-WR-CALNAME:StivoZ.gr
X-ORIGINAL-URL:https://www.stivoz.gr
X-WR-CALDESC:StivoZ.gr - Εκδηλώσεις
BEGIN:VTIMEZONE
TZID:Europe/Athens
BEGIN:STANDARD
TZOFFSETFROM:+0200
TZOFFSETTO:+0200
TZNAME:EET
DTSTART:20140101T000000
END:STANDARD
END:VTIMEZONE
BEGIN:VEVENT
DTSTART;VALUE=DATE:20140614
DTEND;VALUE=DATE:20260423
DTSTAMP:20260422T055159
CREATED:20130907T062822Z
LAST-MODIFIED:20250423T131006Z
UID:28827-1402704000-0@www.stivoz.gr
SUMMARY:Diamond League #06 (New York)
DESCRIPTION:www.diamondleague-newyork.com \nΣχετικά θέματα:\n– www.stivoz.com/content.php?4056-i-stefanidi-dagose-to-megalo-milo-neo-rekor-xalase-to-seri-tou-tsatouma\n– www.stivoz.com/content.php?4058-Bondarenko-kai-Barshim-petaxan-sta-242
URL:https://www.stivoz.gr/event/diamond-league-new-york-2014/
CATEGORIES:Ημερολόγιο αγώνων
END:VEVENT
END:VCALENDAR