BEGIN:VCALENDAR
VERSION:2.0
PRODID:-//StivoZ.gr - ECPv5.16.4//NONSGML v1.0//EN
CALSCALE:GREGORIAN
METHOD:PUBLISH
X-WR-CALNAME:StivoZ.gr
X-ORIGINAL-URL:https://www.stivoz.gr
X-WR-CALDESC:StivoZ.gr - Εκδηλώσεις
BEGIN:VTIMEZONE
TZID:Europe/Athens
BEGIN:DAYLIGHT
TZOFFSETFROM:+0200
TZOFFSETTO:+0300
TZNAME:EEST
DTSTART:20150329T010000
END:DAYLIGHT
BEGIN:STANDARD
TZOFFSETFROM:+0300
TZOFFSETTO:+0200
TZNAME:EET
DTSTART:20151025T010000
END:STANDARD
END:VTIMEZONE
BEGIN:VEVENT
DTSTART;VALUE=DATE:20150724
DTEND;VALUE=DATE:20150726
DTSTAMP:20260420T224608
CREATED:20150512T201614Z
LAST-MODIFIED:20250423T130724Z
UID:28999-1437764400-1437847200@www.stivoz.gr
SUMMARY:Diamond League #11 (London)
DESCRIPTION:http://london.diamondleague.com\nSainsburyʼs Anniversary Games\n-> πρόγραμμα\nLondonʼs Queen Elizabeth Olympic Park 24-25 July\nSainsburyʼs IPC Athletics Grand Prix Final : 26 July.
URL:https://www.stivoz.gr/event/diamond-league-london-2015/
CATEGORIES:Ημερολόγιο αγώνων
END:VEVENT
END:VCALENDAR