BEGIN:VCALENDAR
VERSION:2.0
PRODID:-//StivoZ.gr - ECPv5.16.4//NONSGML v1.0//EN
CALSCALE:GREGORIAN
METHOD:PUBLISH
X-WR-CALNAME:StivoZ.gr
X-ORIGINAL-URL:https://www.stivoz.gr
X-WR-CALDESC:StivoZ.gr - Εκδηλώσεις
BEGIN:VTIMEZONE
TZID:Europe/Athens
BEGIN:DAYLIGHT
TZOFFSETFROM:+0200
TZOFFSETTO:+0300
TZNAME:EEST
DTSTART:20120325T010000
END:DAYLIGHT
BEGIN:STANDARD
TZOFFSETFROM:+0300
TZOFFSETTO:+0200
TZNAME:EET
DTSTART:20121028T010000
END:STANDARD
END:VTIMEZONE
BEGIN:VEVENT
DTSTART;VALUE=DATE:20120713
DTEND;VALUE=DATE:20120715
DTSTAMP:20260419T175619
CREATED:20120509T222311Z
LAST-MODIFIED:20250423T131314Z
UID:28668-1342188000-1342288800@www.stivoz.gr
SUMMARY:Diamond League #08 (London)
DESCRIPTION:www.diamondleague-london.com \nΣχετικά θέματα:\n– www.stivoz.com/forum/showthread.php?7254\n– www.stivoz.com/forum/showthread.php?7260 (Α’ ημέρα)\n– www.stivoz.com/forum/showthread.php?7272 (Β’ ημέρα)
URL:https://www.stivoz.gr/event/diamond-league-london-2013/
CATEGORIES:Ημερολόγιο αγώνων
END:VEVENT
END:VCALENDAR