BEGIN:VCALENDAR
VERSION:2.0
PRODID:-//StivoZ.gr - ECPv5.16.4//NONSGML v1.0//EN
CALSCALE:GREGORIAN
METHOD:PUBLISH
X-WR-CALNAME:StivoZ.gr
X-ORIGINAL-URL:https://www.stivoz.gr
X-WR-CALDESC:StivoZ.gr - Εκδηλώσεις
BEGIN:VTIMEZONE
TZID:Europe/Athens
BEGIN:DAYLIGHT
TZOFFSETFROM:+0200
TZOFFSETTO:+0300
TZNAME:EEST
DTSTART:20110327T010000
END:DAYLIGHT
BEGIN:STANDARD
TZOFFSETFROM:+0300
TZOFFSETTO:+0200
TZNAME:EET
DTSTART:20111030T010000
END:STANDARD
END:VTIMEZONE
BEGIN:VEVENT
DTSTART;VALUE=DATE:20110805
DTEND;VALUE=DATE:20110807
DTSTAMP:20260420T062518
CREATED:20110113T153604Z
LAST-MODIFIED:20250423T131507Z
UID:28557-1312545600-1312660800@www.stivoz.gr
SUMMARY:12o Diamond L. (London GBR)
DESCRIPTION:www.diamondleague-london.com \nΣχετικά θέματα:\n– www.stivoz.com/forum/showthread.php?5547\n– www.stivoz.com/forum/showthread.php?5554\n– www.stivoz.com/forum/showthread.php?5556 (Α’ ημέρα)\n– www.stivoz.com/forum/showthread.php?5559 (Β’ ημέρα)
URL:https://www.stivoz.gr/event/diamond-league-london-2011/
CATEGORIES:Ημερολόγιο αγώνων
END:VEVENT
END:VCALENDAR