BEGIN:VCALENDAR
VERSION:2.0
PRODID:-//StivoZ.gr - ECPv5.16.4//NONSGML v1.0//EN
CALSCALE:GREGORIAN
METHOD:PUBLISH
X-WR-CALNAME:StivoZ.gr
X-ORIGINAL-URL:https://www.stivoz.gr
X-WR-CALDESC:StivoZ.gr - Εκδηλώσεις
BEGIN:VTIMEZONE
TZID:Europe/Athens
BEGIN:DAYLIGHT
TZOFFSETFROM:+0200
TZOFFSETTO:+0300
TZNAME:EEST
DTSTART:20190331T010000
END:DAYLIGHT
BEGIN:STANDARD
TZOFFSETFROM:+0300
TZOFFSETTO:+0200
TZNAME:EET
DTSTART:20191027T010000
END:STANDARD
END:VTIMEZONE
BEGIN:VEVENT
DTSTART;VALUE=DATE:20190705
DTEND;VALUE=DATE:20190706
DTSTAMP:20260419T221943
CREATED:20181223T103243Z
LAST-MODIFIED:20190705T211357Z
UID:41336-1562284800-1562371199@www.stivoz.gr
SUMMARY:Diamond League (Lausanne) #8
DESCRIPTION:https://lausanne.diamondleague.com/home/ \n-> Πρόγραμμα / συμμετοχές / αποτελέσματα \nΣχετικά θέματα:\n– https://www.stivoz.gr/to-dl-epistrefei-europi-me-koryfaies-ellinikes-symmetoxes/\n– https://www.stivoz.gr/lausanne-prothermansi-me-street-event-me-nageotte-nikitria-kai-stefanidi/\n– https://www.stivoz.gr/lausanne-super-lyles-fraser-lisek-ejr-ingebrigtsen-sb-tentoglou-papachristou/
URL:https://www.stivoz.gr/event/diamond-league-lausanne-2019/
CATEGORIES:Ημερολόγιο αγώνων
END:VEVENT
END:VCALENDAR