BEGIN:VCALENDAR
VERSION:2.0
PRODID:-//StivoZ.gr - ECPv5.16.4//NONSGML v1.0//EN
CALSCALE:GREGORIAN
METHOD:PUBLISH
X-WR-CALNAME:StivoZ.gr
X-ORIGINAL-URL:https://www.stivoz.gr
X-WR-CALDESC:StivoZ.gr - Εκδηλώσεις
BEGIN:VTIMEZONE
TZID:Europe/Athens
BEGIN:STANDARD
TZOFFSETFROM:+0200
TZOFFSETTO:+0200
TZNAME:EET
DTSTART:20160101T000000
END:STANDARD
END:VTIMEZONE
BEGIN:VEVENT
DTSTART;VALUE=DATE:20160825
DTEND;VALUE=DATE:20260421
DTSTAMP:20260420T173359
CREATED:20151021T204138Z
LAST-MODIFIED:20250423T130524Z
UID:29060-1472083200-0@www.stivoz.gr
SUMMARY:Diamond League #11 (Lausanne)
DESCRIPTION:http://lausanne.diamondleague.com/ \nΣχετικά θέματα:\n– www.stivoz.com/content.php?5831-Super-Tsakonas-kai-Martina-Xehorise-i-Thompson-3i-i-Papachristou-sti-Lausanne-O-Souleiman-ta-1000m
URL:https://www.stivoz.gr/event/diamond-league-lausanne-2016/
CATEGORIES:Ημερολόγιο αγώνων
END:VEVENT
END:VCALENDAR