BEGIN:VCALENDAR
VERSION:2.0
PRODID:-//StivoZ.gr - ECPv5.16.4//NONSGML v1.0//EN
CALSCALE:GREGORIAN
METHOD:PUBLISH
X-WR-CALNAME:StivoZ.gr
X-ORIGINAL-URL:https://www.stivoz.gr
X-WR-CALDESC:StivoZ.gr - Εκδηλώσεις
BEGIN:VTIMEZONE
TZID:Europe/Athens
BEGIN:DAYLIGHT
TZOFFSETFROM:+0200
TZOFFSETTO:+0300
TZNAME:EEST
DTSTART:20210328T010000
END:DAYLIGHT
BEGIN:STANDARD
TZOFFSETFROM:+0300
TZOFFSETTO:+0200
TZNAME:EET
DTSTART:20211031T010000
END:STANDARD
END:VTIMEZONE
BEGIN:VEVENT
DTSTART;VALUE=DATE:20210523
DTEND;VALUE=DATE:20210524
DTSTAMP:20260422T112149
CREATED:20210518T070336Z
LAST-MODIFIED:20210524T062838Z
UID:77148-1621728000-1621814399@www.stivoz.gr
SUMMARY:Diamond League (Gateshead) #1
DESCRIPTION:https://gateshead.diamondleague.com \nΣχετικά θέματα:\n– www.stivoz.gr/gateshead-o-kairos-chalase-tin-premiera-toy-diamond-league/ \n-> ιστορικό
URL:https://www.stivoz.gr/event/diamond-league-gateshead-2021/
CATEGORIES:Ημερολόγιο αγώνων
END:VEVENT
END:VCALENDAR