BEGIN:VCALENDAR
VERSION:2.0
PRODID:-//StivoZ.gr - ECPv5.16.4//NONSGML v1.0//EN
CALSCALE:GREGORIAN
METHOD:PUBLISH
X-WR-CALNAME:StivoZ.gr
X-ORIGINAL-URL:https://www.stivoz.gr
X-WR-CALDESC:StivoZ.gr - Εκδηλώσεις
BEGIN:VTIMEZONE
TZID:Europe/Athens
BEGIN:STANDARD
TZOFFSETFROM:+0200
TZOFFSETTO:+0200
TZNAME:EET
DTSTART:20100101T000000
END:STANDARD
END:VTIMEZONE
BEGIN:VEVENT
DTSTART;VALUE=DATE:20100710
DTEND;VALUE=DATE:20260423
DTSTAMP:20260422T092034
CREATED:20100104T152224Z
LAST-MODIFIED:20250423T131749Z
UID:28375-1278720000-0@www.stivoz.gr
SUMMARY:Diam.L.#08 Gateshead
DESCRIPTION:http://www.diamondleague-gateshead.com/ \nΣχετικά θέματα:\nhttp://www.stivoz.com/forum/showthread.php?t=4128
URL:https://www.stivoz.gr/event/diamond-league-gateshead-2010/
CATEGORIES:Ημερολόγιο αγώνων
END:VEVENT
END:VCALENDAR