BEGIN:VCALENDAR
VERSION:2.0
PRODID:-//StivoZ.gr - ECPv5.16.4//NONSGML v1.0//EN
CALSCALE:GREGORIAN
METHOD:PUBLISH
X-WR-CALNAME:StivoZ.gr
X-ORIGINAL-URL:https://www.stivoz.gr
X-WR-CALDESC:StivoZ.gr - Εκδηλώσεις
BEGIN:VTIMEZONE
TZID:Europe/Athens
BEGIN:STANDARD
TZOFFSETFROM:+0200
TZOFFSETTO:+0200
TZNAME:EET
DTSTART:20180101T000000
END:STANDARD
END:VTIMEZONE
BEGIN:VEVENT
DTSTART;VALUE=DATE:20180504
DTEND;VALUE=DATE:20260420
DTSTAMP:20260419T154749
CREATED:20180418T065031Z
LAST-MODIFIED:20190718T204548Z
UID:29322-1525392000-0@www.stivoz.gr
SUMMARY:Diamond League #01 (Doha)
DESCRIPTION:https://doha.diamondleague.com \n-> Πρόγραμμα – συμμετοχές – αποτελέσματα\n(η τοπική ώρα είναι ίδια με Ελλάδος) \nΣχετικά θέματα:\n– www.stivoz.com/content.php?6635-Me-Stefanidi-kai-Kyriakopoulou-vs-Morris-xekinaei-stis-4-5-to-Diamond-League-sti-Doha \n-> ιστορικό
URL:https://www.stivoz.gr/event/diamond-league-doha-2018/
CATEGORIES:Ημερολόγιο αγώνων
END:VEVENT
END:VCALENDAR