BEGIN:VCALENDAR
VERSION:2.0
PRODID:-//StivoZ.gr - ECPv5.16.4//NONSGML v1.0//EN
CALSCALE:GREGORIAN
METHOD:PUBLISH
X-WR-CALNAME:StivoZ.gr
X-ORIGINAL-URL:https://www.stivoz.gr
X-WR-CALDESC:StivoZ.gr - Εκδηλώσεις
BEGIN:VTIMEZONE
TZID:Europe/Athens
BEGIN:STANDARD
TZOFFSETFROM:+0200
TZOFFSETTO:+0200
TZNAME:EET
DTSTART:20170101T000000
END:STANDARD
END:VTIMEZONE
BEGIN:VEVENT
DTSTART;VALUE=DATE:20170505
DTEND;VALUE=DATE:20260422
DTSTAMP:20260421T151518
CREATED:20160928T100711Z
LAST-MODIFIED:20240416T081044Z
UID:29132-1493942400-0@www.stivoz.gr
SUMMARY:Diamond League #01 (Doha/QAT)
DESCRIPTION:https://doha.diamondleague.com \nΣχετικά θέματα:\n– www.stivoz.com/content.php?6128-Doha-Xekinima-sta-ypsi-i-Stefanidi-terastia-voli-o-Roehler-fovero-steeple \n-> ιστορικό Golden/Diamond League\n-> Νικητές σειράς Diamond League
URL:https://www.stivoz.gr/event/diamond-league-doha-2017/
CATEGORIES:Ημερολόγιο αγώνων
END:VEVENT
END:VCALENDAR