BEGIN:VCALENDAR
VERSION:2.0
PRODID:-//StivoZ.gr - ECPv5.16.4//NONSGML v1.0//EN
CALSCALE:GREGORIAN
METHOD:PUBLISH
X-WR-CALNAME:StivoZ.gr
X-ORIGINAL-URL:https://www.stivoz.gr
X-WR-CALDESC:StivoZ.gr - Εκδηλώσεις
BEGIN:VTIMEZONE
TZID:Europe/Athens
BEGIN:DAYLIGHT
TZOFFSETFROM:+0200
TZOFFSETTO:+0300
TZNAME:EEST
DTSTART:20190331T010000
END:DAYLIGHT
BEGIN:STANDARD
TZOFFSETFROM:+0300
TZOFFSETTO:+0200
TZNAME:EET
DTSTART:20191027T010000
END:STANDARD
END:VTIMEZONE
BEGIN:VEVENT
DTSTART;VALUE=DATE:20190906
DTEND;VALUE=DATE:20190907
DTSTAMP:20260420T015854
CREATED:20181223T103909Z
LAST-MODIFIED:20190907T062925Z
UID:41349-1567728000-1567814399@www.stivoz.gr
SUMMARY:Diamond League (Brussels) final#2
DESCRIPTION:https://brussels.diamondleague.com/ \nΣχετικά θέματα:\n– https://www.stivoz.gr/i-stefanidi-gia-kare-se-brussels/\n– https://www.stivoz.gr/d-l-brussels-double-lyles-hassan/\n– https://www.stivoz.gr/d-l-brussels-adamantini-gia-4i-xronia-i-stefanidi/
URL:https://www.stivoz.gr/event/diamond-league-brussels-2019/
CATEGORIES:Ημερολόγιο αγώνων
END:VEVENT
END:VCALENDAR