BEGIN:VCALENDAR
VERSION:2.0
PRODID:-//StivoZ.gr - ECPv5.16.4//NONSGML v1.0//EN
CALSCALE:GREGORIAN
METHOD:PUBLISH
X-WR-CALNAME:StivoZ.gr
X-ORIGINAL-URL:https://www.stivoz.gr
X-WR-CALDESC:StivoZ.gr - Εκδηλώσεις
BEGIN:VTIMEZONE
TZID:Europe/Athens
BEGIN:STANDARD
TZOFFSETFROM:+0200
TZOFFSETTO:+0200
TZNAME:EET
DTSTART:20160101T000000
END:STANDARD
END:VTIMEZONE
BEGIN:VEVENT
DTSTART;VALUE=DATE:20160909
DTEND;VALUE=DATE:20260422
DTSTAMP:20260421T011803
CREATED:20151021T203312Z
LAST-MODIFIED:20181218T091419Z
UID:29050-1473379200-0@www.stivoz.gr
SUMMARY:Diamond League #14 (Brussels)
DESCRIPTION:http://brussels.diamondleague.com/ \nΣχετικά θέματα:\n– www.stivoz.com/content.php?5850-Brussels-5metri-i-Morris-kiriarhos-i-Thompson-Kalo-finale-gia-Ellinides-kai-Kiprious
URL:https://www.stivoz.gr/event/diamond-league-brussels-2016/
CATEGORIES:Ημερολόγιο αγώνων
END:VEVENT
END:VCALENDAR