BEGIN:VCALENDAR
VERSION:2.0
PRODID:-//StivoZ.gr - ECPv5.16.4//NONSGML v1.0//EN
CALSCALE:GREGORIAN
METHOD:PUBLISH
X-WR-CALNAME:StivoZ.gr
X-ORIGINAL-URL:https://www.stivoz.gr
X-WR-CALDESC:StivoZ.gr - Εκδηλώσεις
BEGIN:VTIMEZONE
TZID:Europe/Athens
BEGIN:STANDARD
TZOFFSETFROM:+0200
TZOFFSETTO:+0200
TZNAME:EET
DTSTART:20110101T000000
END:STANDARD
END:VTIMEZONE
BEGIN:VEVENT
DTSTART;VALUE=DATE:20110916
DTEND;VALUE=DATE:20260423
DTSTAMP:20260422T035223
CREATED:20110113T133757Z
LAST-MODIFIED:20181218T101143Z
UID:28559-1316131200-0@www.stivoz.gr
SUMMARY:14o Diamond L. -Final2 (Brussels BEL)
DESCRIPTION:www.diamondleague-brussels.com \nΣχετικά θέματα:\n– www.stivoz.com/content.php?981-O-Blake-eklepse-tin-parastasi-apo-ton-Bolt-stis-Bryxelles-O-Filippidis-kerdise-to-epikontw
URL:https://www.stivoz.gr/event/diamond-league-brussels-2011/
CATEGORIES:Ημερολόγιο αγώνων
END:VEVENT
END:VCALENDAR