BEGIN:VCALENDAR
VERSION:2.0
PRODID:-//StivoZ.gr - ECPv5.16.4//NONSGML v1.0//EN
CALSCALE:GREGORIAN
METHOD:PUBLISH
X-WR-CALNAME:StivoZ.gr
X-ORIGINAL-URL:https://www.stivoz.gr
X-WR-CALDESC:StivoZ.gr - Εκδηλώσεις
BEGIN:VTIMEZONE
TZID:Europe/Athens
BEGIN:STANDARD
TZOFFSETFROM:+0200
TZOFFSETTO:+0200
TZNAME:EET
DTSTART:20100101T000000
END:STANDARD
END:VTIMEZONE
BEGIN:VEVENT
DTSTART;VALUE=DATE:20100604
DTEND;VALUE=DATE:20260423
DTSTAMP:20260422T074353
CREATED:20100104T151953Z
LAST-MODIFIED:20181208T172916Z
UID:28370-1275609600-0@www.stivoz.gr
SUMMARY:Diam.L.#03 Oslo
DESCRIPTION:http://www.bislettgames.com/ \nΣχετικά θέματα:\nhttp://www.stivoz.com/forum/showthread.php?3975\nhttp://www.stivoz.com/forum/showthread.php?3981
URL:https://www.stivoz.gr/event/diam-l-03-oslo/
CATEGORIES:Ημερολόγιο αγώνων
END:VEVENT
END:VCALENDAR