BEGIN:VCALENDAR
VERSION:2.0
PRODID:-//StivoZ.gr - ECPv5.16.4//NONSGML v1.0//EN
CALSCALE:GREGORIAN
METHOD:PUBLISH
X-WR-CALNAME:StivoZ.gr
X-ORIGINAL-URL:https://www.stivoz.gr
X-WR-CALDESC:StivoZ.gr - Εκδηλώσεις
BEGIN:VTIMEZONE
TZID:Europe/Athens
BEGIN:DAYLIGHT
TZOFFSETFROM:+0200
TZOFFSETTO:+0300
TZNAME:EEST
DTSTART:20180325T010000
END:DAYLIGHT
BEGIN:STANDARD
TZOFFSETFROM:+0300
TZOFFSETTO:+0200
TZNAME:EET
DTSTART:20181028T010000
END:STANDARD
END:VTIMEZONE
BEGIN:VEVENT
DTSTART;VALUE=DATE:20180718
DTEND;VALUE=DATE:20180719
DTSTAMP:20260420T164753
CREATED:20180427T085301Z
LAST-MODIFIED:20210512T185744Z
UID:29346-1531872000-1531872000@www.stivoz.gr
SUMMARY:Δαβιτζόγλεια (Καβάλα)
DESCRIPTION:Σχετικά θέματα:\n– www.stivoz.com/content.php?6819-Me-kales-epidoseis-ekleise-o-kyklos-grand-prix-stin-Kavala\n– www.stivoz.com/forum/showthread.php?17950 (αποτελέσματα) \nΠρόγραμμα: \n18:30 ΣΦΥΡΟΒΟΛΙΑ (Α) – (Γ)\n18:30 ΤΡΙΠΛΟΥΝ (Α)\n18:30 110μ. εμπ. (Α)\n18:45 100μ. εμπ. (Γ)\n18:45 ΥΨΟΣ Γ\n18:45 ΕΠΙ ΚΟΝΤΩ (Α)\n18:45 ΣΦΑΙΡΟΒΟΛΙΑ (Γ)\n18:55 ΜΗΚΟΣ ΠΠΑ(Β΄ ΣΚΑΜΜΑ)\n18:55 100Μ (Α)\n19:10 100Μ (Γ)\n19:10 ΜΗΚΟΣ (Γ)\n19:30 800Μ (Α)\n19:30 ΑΚΟΝΤΙΣΜΟΣ (Γ)\n19:40 400μ. εμπ. (Α)\n19:40 ΣΦΑΙΡΟΒΟΛΙΑ (Α)\n19:50 1500Μ (Γ)\n19:50 ΥΨΟΣ (Α)\n19:50 ΕΠΙ ΚΟΝΤΩ (Γ)\n20:00 5000Μ (Α)\n20:00 ΜΗΚΟΣ ΠΚΒ (Β΄ ΣΚΑΜΜΑ)\n20:25 ΜΗΚΟΣ (Α)\n20:25 ΑΚΟΝΤΙΣΜΟΣ (Α)\n20:25 200Μ (Α)\n20:40 200Μ (Γ)\n20:55 150 Π/Π Α΄\n21:05 150 Π/ΚΑ΄
URL:https://www.stivoz.gr/event/davitzogleia-2018/
CATEGORIES:Ημερολόγιο αγώνων
END:VEVENT
END:VCALENDAR