BEGIN:VCALENDAR
VERSION:2.0
PRODID:-//StivoZ.gr - ECPv5.16.4//NONSGML v1.0//EN
CALSCALE:GREGORIAN
METHOD:PUBLISH
X-WR-CALNAME:StivoZ.gr
X-ORIGINAL-URL:https://www.stivoz.gr
X-WR-CALDESC:StivoZ.gr - Εκδηλώσεις
BEGIN:VTIMEZONE
TZID:Europe/Athens
BEGIN:STANDARD
TZOFFSETFROM:+0200
TZOFFSETTO:+0200
TZNAME:EET
DTSTART:20090101T000000
END:STANDARD
END:VTIMEZONE
BEGIN:VEVENT
DTSTART;VALUE=DATE:20090617
DTEND;VALUE=DATE:20260422
DTSTAMP:20260421T122222
CREATED:20090529T121525Z
LAST-MODIFIED:20210512T185829Z
UID:28320-1245196800-0@www.stivoz.gr
SUMMARY:2ο Ελ.grandprix - Καβάλα
DESCRIPTION:Σχετικά θέματα\nhttp://www.stivoz.gr/?p=16789\nhttp://www.stivoz.gr/?p=16838 \nΠροκηρυξη: http://www.asrigas.gr/doc/davitzogleia09_prokhryksi.doc \n18.00	80 μ.  ΠΠΑ	Τριπλούν   Γ	Σφυροβολία  Α\n18.15	80 μ.  ΠΚΑ	επί κοντώ  Γ\n18.30	400 μ. εμπ.  Γ		Σφαιροβολία Α\n18.45	100 μ.  Α\n19.05	200 μ.   Γ	Μήκος  Α	Ακοντισμός  Γ\n19.30	3000 μ. Φ.Ε.  Α	Υψος  Γ\n19.45	1500 μ.  Α		Σφαιροβολία  Γ\n20.00	800 μ.  Γ\n20.15	400 μ.  Α	Τριπλούν  Α	Δισκοβολία  Α\n20.30	3000 μ.  Α\n20.40	3000 μ. Γ\n20.55	110 μ. εμπ.  Α\n21.05	60 μ. ΠΠΒ\n21.20	60 μ. ΠΚΒ
URL:https://www.stivoz.gr/event/davitzogleia-2009/
CATEGORIES:Ημερολόγιο αγώνων
END:VEVENT
END:VCALENDAR