BEGIN:VCALENDAR
VERSION:2.0
PRODID:-//StivoZ.gr - ECPv5.16.4//NONSGML v1.0//EN
CALSCALE:GREGORIAN
METHOD:PUBLISH
X-WR-CALNAME:StivoZ.gr
X-ORIGINAL-URL:https://www.stivoz.gr
X-WR-CALDESC:StivoZ.gr - Εκδηλώσεις
BEGIN:VTIMEZONE
TZID:Europe/Athens
BEGIN:DAYLIGHT
TZOFFSETFROM:+0200
TZOFFSETTO:+0300
TZNAME:EEST
DTSTART:20190331T010000
END:DAYLIGHT
BEGIN:STANDARD
TZOFFSETFROM:+0300
TZOFFSETTO:+0200
TZNAME:EET
DTSTART:20191027T010000
END:STANDARD
END:VTIMEZONE
BEGIN:VEVENT
DTSTART;VALUE=DATE:20190615
DTEND;VALUE=DATE:20190616
DTSTAMP:20260419T202425
CREATED:20190529T061803Z
LAST-MODIFIED:20220528T190021Z
UID:50519-1560556800-1560643199@www.stivoz.gr
SUMMARY:αγώνες “Δ.Βραϊμάκης” (Χαλκίδα)
DESCRIPTION:Σχετικά θέματα:\n– https://www.stivoz.gr/d-vraimakis-2019 (αποτελέσματα) \nΠρόγραμμα \n16:00 80Μ. ΕΜΠ. ΠΚΑ΄\n16:00 ΜΗΚΟΣ Κ (Α΄ ΓΚΡΟΥΠ)\n16:00 ΔΙΣΚΟΒΟΛΙΑ Κ-Γ\n16:20 ΕΠΙ ΚΟΝΤΩ Γ\n16:20 110Μ. ΕΜΠ ΕΦ\n16:30 110Μ. ΕΜΠ Π\n16:30 ΥΨΟΣ ΠΠΑ\n16:40 ΤΡΙΠΛΟΥΝ Κ\n16:40 150ΠΠΑ΄\n17:10 300Μ. ΠΚΑ΄\n17:25 300Μ. ΠΠΑ΄\n17:25 ΣΦΑΙΡΟΒΟΛΙΑ ΠΚΑ΄-Κ\n17:45 300Μ. ΕΜΠ. ΠΠΑ΄\n17:55 300Μ. ΕΜΠ. ΠΚΑ΄\n18:00 ΜΗΚΟΣ Κ (Β΄ ΓΚΡΟΥΠ)\n18:15 50M ΝΗΠ\,Α\,Β\n18:15 ΥΨΟΣ ΚΟΡ\n18:40 400Μ. ΕΜΠ.Γ\n19:00 400Μ. ΕΜΠ. Π-Α\n19:20 KIDS ATHLETIC\n19:35 ΤΡΙΠΛΟΥΝ Π\n19:35 100Μ. Α\n19:45 100Μ. Γ\n20:15 400Μ Α\n20:35 400Μ Γ\n21:10 5.000Μ. Α \nΔηλώσεις συμμετοχής έως Τρίτη 11/6 και ώρα 2μμ σε ειδικό έντυπο προκήρυξης στο stibos04@otenet.gr
URL:https://www.stivoz.gr/event/d-vraimakis-2019/
CATEGORIES:Ημερολόγιο αγώνων
END:VEVENT
END:VCALENDAR