BEGIN:VCALENDAR
VERSION:2.0
PRODID:-//StivoZ.gr - ECPv5.16.4//NONSGML v1.0//EN
CALSCALE:GREGORIAN
METHOD:PUBLISH
X-WR-CALNAME:StivoZ.gr
X-ORIGINAL-URL:https://www.stivoz.gr
X-WR-CALDESC:StivoZ.gr - Εκδηλώσεις
BEGIN:VTIMEZONE
TZID:Europe/Athens
BEGIN:STANDARD
TZOFFSETFROM:+0200
TZOFFSETTO:+0200
TZNAME:EET
DTSTART:20120101T000000
END:STANDARD
END:VTIMEZONE
BEGIN:VEVENT
DTSTART;VALUE=DATE:20120526
DTEND;VALUE=DATE:20260420
DTSTAMP:20260419T193537
CREATED:20120510T213044Z
LAST-MODIFIED:20220528T185919Z
UID:28683-1337990400-0@www.stivoz.gr
SUMMARY:ημερίδα "Βραιμάκεια" (Χαλκίδα)
DESCRIPTION:Σχετικά θέματα:\n– www.stivoz.com/forum/showthread.php?6929 (αποτελέσματα) \n– www.sportsphotoz.com/?page_id=1024 (φωτογραφίες) \nΩΡΟΛΟΓΙΟ ΠΡΟΓΡΑΜΜΑ \n15:15 ΣΦΥΡΟΒΟΛΙΑ ΠΚΑʼ\n16:30  ΣΦΑΙΡΑ ΠΚΑ\n16:30  MHKOΣ ΠΠ mini\n16:30 600 ΠΚ mini ʼ\n16:45 600 ΠΚ Αʼ\n16:45  ΕΠΙ ΚΟΝΤΩ ΓΥΝ.-ΚΟΡ.\n16:45 ΕΠΙ ΚΟΝΤΩ ΑΝΔ.-ΠΠ Αʼ\n17:00 150Μ. ΠΚ Αʼ\n17:15 MHKOΣ ΠK mini\n17:15 ΔΙΣΚΟΣ ΚΟΡ.\n17:15 ΣΦΑΙΡΑ ΠΠ Αʼ\n17:15 200Μ ΓΥΝ.-ΚΟΡ.\n17:40 200Μ. ΑΝΔ.ΠΑΙΔ.\n18:00 400Μ. ΕΜΠ. ΓΥΝ-ΚΟΡ.\n18:00 ΜΗΚΟΣ ΓΥΝ.-ΚΟΡ\n18:00 ΣΦΑΙΡΑ ΠΑΙΔ.\n18:15 ΑΚΟΝΤΙΟ ΠΑΙΔ.\n18:15 50Μ ΠΚ mini\n18:30 50 Μ. ΠΠ mini\n18:40 60 Μ. ΠΚ Βʼ\n19:00 ΎΨΟΣ ΑΝΔ.- Π- ΠΠ Αʼ\n19:00 ΔΙΣΚΟΣ ΠΑΙΔ.\n19:00 400 Μ. ΓΥΝ.-ΚΟΡ.\n19:15 400 Μ. ΑΝΔ.-ΠΑΙΔ.\n19:15 ΤΡΙΠΛΟΥΝ ΓΥΝ.-ΚΟΡ.\n19:30 800 Μ. ΓΥΝ.-ΚΟΡ.\n19:45 800 Μ. ΑΝΔ.-ΠΑΙΔ.\n19:45 ΔΙΣΚΟΣ ΠΠ Αʼ\n20:00 1500Μ. ΓΥΝ-ΚΟΡ.\n20:20 100 ΕΜΠ. ΓΥΝ.\n20:25 	110 ΕΜΠ. ΑΝΔ.\n20:45 3000 Μ. ΑΝΔ.-ΠΠ Αʼ \n• ΔΗΛΩΣΗ ΣΥΜΜΕΤΟΧΗΣ ΜΕΧΡΙ ΚΑΙ 24 ΜΑΪΟΥ ΣΤΟ EMAIL stibos04@otenet.gr Ή ΣΤΟ ΦΑΞ 2221027114\n• ΠΛΗΡΟΦΟΡΙΕΣ: 6944297725 \, 6945418874
URL:https://www.stivoz.gr/event/d-vraimakis-2012/
CATEGORIES:Ημερολόγιο αγώνων
END:VEVENT
END:VCALENDAR