BEGIN:VCALENDAR
VERSION:2.0
PRODID:-//StivoZ.gr - ECPv5.16.4//NONSGML v1.0//EN
CALSCALE:GREGORIAN
METHOD:PUBLISH
X-WR-CALNAME:StivoZ.gr
X-ORIGINAL-URL:https://www.stivoz.gr
X-WR-CALDESC:StivoZ.gr - Εκδηλώσεις
BEGIN:VTIMEZONE
TZID:Europe/Athens
BEGIN:DAYLIGHT
TZOFFSETFROM:+0200
TZOFFSETTO:+0300
TZNAME:EEST
DTSTART:20070325T010000
END:DAYLIGHT
BEGIN:STANDARD
TZOFFSETFROM:+0300
TZOFFSETTO:+0200
TZNAME:EET
DTSTART:20071028T010000
END:STANDARD
END:VTIMEZONE
BEGIN:VEVENT
DTSTART;VALUE=DATE:20071015
DTEND;VALUE=DATE:20071019
DTSTAMP:20260424T122935
CREATED:20070803T231127Z
LAST-MODIFIED:20181218T110322Z
UID:28104-1192449600-1192744800@www.stivoz.gr
SUMMARY:Παγκ.στρατιωτικο (CISM) Ινδία
DESCRIPTION:4ο CISM: Hyderabad (India)\nhttp://www.cism-milsport.org/eng/welcome.html\nhttp://www.mwg2007.org/ \nresults: http://www.mwg2007.org:8090/at/at_main.htm
URL:https://www.stivoz.gr/event/cism2007/
CATEGORIES:Ημερολόγιο αγώνων
END:VEVENT
END:VCALENDAR