BEGIN:VCALENDAR
VERSION:2.0
PRODID:-//StivoZ.gr - ECPv5.16.4//NONSGML v1.0//EN
CALSCALE:GREGORIAN
METHOD:PUBLISH
X-WR-CALNAME:StivoZ.gr
X-ORIGINAL-URL:https://www.stivoz.gr
X-WR-CALDESC:StivoZ.gr - Εκδηλώσεις
BEGIN:VTIMEZONE
TZID:Europe/Athens
BEGIN:DAYLIGHT
TZOFFSETFROM:+0200
TZOFFSETTO:+0300
TZNAME:EEST
DTSTART:20230326T010000
END:DAYLIGHT
BEGIN:STANDARD
TZOFFSETFROM:+0300
TZOFFSETTO:+0200
TZNAME:EET
DTSTART:20231029T010000
END:STANDARD
END:VTIMEZONE
BEGIN:VEVENT
DTSTART;VALUE=DATE:20230611
DTEND;VALUE=DATE:20230612
DTSTAMP:20260422T055126
CREATED:20230601T075921Z
LAST-MODIFIED:20240621T091125Z
UID:105199-1686441600-1686527999@www.stivoz.gr
SUMMARY:αγώνες “Χρ.Βουδούρης” (Θήβα)
DESCRIPTION:Πρόγραμμα: \n17:15 ΜΕΙΚΤΟ 50Μ Κ6\n17:25 ΜΕΙΚΤΟ 50Μ Κ8\n17:25 ΜΗΚΟΣ Κ12 (Κ)\n17:40 50Μ Κ12 (Α)\n17:55 50Μ Κ12 (Κ)\n18:15 ΜΗΚΟΣ Κ12 (Α)\n18:15 60Μ Κ14 (Α)\n18:25 60Μ Κ14 (Κ)\n18:25 ΥΨΟΣ Κ14 (Κ)\n18:45 60Μ ΕΜΠΟΔΙΑ Κ14 (Κ)\n19:00 60Μ ΕΜΠΟΔΙΑ Κ14 (Α)\n19:00 ΜΗΚΟΣ Κ14 (Κ-Α)\n19:15 50Μ ΕΜΠΟΔΙΑ Κ12 (Κ)\n19:30 50Μ ΕΜΠΟΔΙΑ Κ12 (Α)\n19:40 150Μ Κ16 – Κ14 – Κ12 (Κ)\n19:40 ΤΕΤΡΑΠΛΟΥΝ Κ16 (Κ)\n19:55 200Μ ΕΜΠΟΔΙΑ Κ14 (Κ)\n20:05 4X50 Κ12 (Κ)\n20:15 4X50 Κ14 (A)\n20:25 4Χ50 Κ14 (Κ)\n20:35 5Χ30 Κ8 ΜΕΙΚΤΑ\n20:45 1000Μ ΒΑΔΗΝ Κ14 (Α – Κ)\n20:55 800Μ Κ14 (Α) – (Κ) \nΔηλώσεις σε ΕΑΣ ΣΕΓΑΣ Ανατολικής Στερεάς – Ευβοίας stibos04@otenet.gr μέχρι την Τρίτη 6 Ιουνίου 2023
URL:https://www.stivoz.gr/event/chr-voudouris-2023/
CATEGORIES:Ημερολόγιο αγώνων
END:VEVENT
END:VCALENDAR