BEGIN:VCALENDAR
VERSION:2.0
PRODID:-//StivoZ.gr - ECPv5.16.4//NONSGML v1.0//EN
CALSCALE:GREGORIAN
METHOD:PUBLISH
X-WR-CALNAME:StivoZ.gr
X-ORIGINAL-URL:https://www.stivoz.gr
X-WR-CALDESC:StivoZ.gr - Εκδηλώσεις
BEGIN:VTIMEZONE
TZID:Europe/Athens
BEGIN:DAYLIGHT
TZOFFSETFROM:+0200
TZOFFSETTO:+0300
TZNAME:EEST
DTSTART:20190331T010000
END:DAYLIGHT
BEGIN:STANDARD
TZOFFSETFROM:+0300
TZOFFSETTO:+0200
TZNAME:EET
DTSTART:20191027T010000
END:STANDARD
END:VTIMEZONE
BEGIN:VEVENT
DTSTART;VALUE=DATE:20190626
DTEND;VALUE=DATE:20190627
DTSTAMP:20260419T182058
CREATED:20190613T135612Z
LAST-MODIFIED:20190701T090211Z
UID:51538-1561507200-1561593599@www.stivoz.gr
SUMMARY:αγώνες "Χρ.Βουδούρης" (Θήβα)
DESCRIPTION:Σχετικά θέματα:\n– https://www.stivoz.gr/dynamiki-epistrofi-gatoy-venieri-sti-thiva-axiologi-epidosi-o-gavelas/\n– https://www.stivoz.gr/thiva-2019/ (αποτελέσματα) \nΠρόγραμμα: \n17:00 ΑΚΟΝΤΙΟ Κ – ΠΚΑ\n17:00 ΣΦΑΙΡΟΒΟΛΙΑ ΠΠΑ\n17:00 80 ΠΠΑ\n17:20 80 ΠΚΑ\n17:20 ΔΙΣΚΟΣ ΠΠΑ\n17:40 ΜΗΚΟΣ Α – Π\n17:40 100 Α\n18:05 100 Γ\n18:05 ΣΦΑΙΡΟΒΟΛΙΑ Π\n18:30 ΔΙΣΚΟΣ Π\n18:30 150 ΠΚΑ\n18:45 300 ΠΠΑ\n19:00 300 ΠΚΑ\n19:00 ΜΗΚΟΣ Γ – Κ\n19:00 ΣΦΑΙΡΟΒΟΛΙΑ Α\n19:15 1000 ΠΠΑ\n19:25 1000 ΠΚΑ\n19:35 800 Γ\n19:45 ΔΙΣΚΟΣ Α\n19:45 200 Α\n20:00 200 Γ\n20:15 ΤΡΙΠΛΟΥΝ Α – Π\n20:15 3000 Α – Π\n20:30 3000 Γ – Κ\n20:50 4×80 ΠΠΑ\n21:05 4×80 ΠΚΑ \nΔηλώσεις συμμετοχής σε ειδική φόρμα στο e-mail της ΕΑΣ ΣΕΓΑΣ Ανατολικής Στερεάς-Εύβοιας stibos04@otenet.gr & dmpouloukos@yahoo.gr μέχρι την Παρασκευή 21\nΙουνίου 2019. Οι συμμετοχές θα οριστικοποιηθούν το αργότερο μέχρι τη Δευτέρα 24 Ιουνίου. Στα αγωνίσματα που ο αριθμός των αθλητών-αθλητριών που έχουν δηλωθεί είναι κάτω από 3 δεν θα διεξαχθούν
URL:https://www.stivoz.gr/event/chr-voudouris-2019/
CATEGORIES:Ημερολόγιο αγώνων
END:VEVENT
END:VCALENDAR